BEGIN:VCALENDAR
VERSION:2.0
PRODID:-//ChamberMaster//Event Calendar 2.0//EN
METHOD:PUBLISH
X-PUBLISHED-TTL:P3D
REFRESH-INTERVAL:P3D
CALSCALE:GREGORIAN
BEGIN:VEVENT
DTSTART:20170401T013000Z
DTEND:20170331T050000Z
X-MICROSOFT-CDO-ALLDAYEVENT:FALSE
SUMMARY:Johnny Holm at Bigwood Event Center
DESCRIPTION:Johnny Holm in Concert
X-ALT-DESC;FMTTYPE=text/html:<strong><span style="font-size:20px\;"><span style="font-family:tahoma\;"><span style="background-color: rgb(255\, 255\, 255)\;">Johnny Holm in Concert&nbsp\;</span></span></span></strong>
LOCATION:Bigwood Event Center 925 Western Ave. Fergus Falls MN 56537
UID:e.314.40014
SEQUENCE:3
DTSTAMP:20260424T210310Z
URL:https://business.fergusfalls.com/events/details/johnny-holm-in-concert-40014
END:VEVENT

END:VCALENDAR
