BEGIN:VCALENDAR
VERSION:2.0
PRODID:-//ChamberMaster//Event Calendar 2.0//EN
METHOD:PUBLISH
X-PUBLISHED-TTL:P3D
REFRESH-INTERVAL:P3D
CALSCALE:GREGORIAN
BEGIN:VEVENT
DTSTART:20170316T213000Z
DTEND:20170316T230000Z
X-MICROSOFT-CDO-ALLDAYEVENT:FALSE
SUMMARY:Journey with us - Preschool\, Pre-kindergarten & Kindergarten Round Up
DESCRIPTION:Preschool\, Pre-kindergarten and Kindergarten Round Up Come discover how we can partner with you in your child's education and faith journey. You are cordially invited to attend our Round-up\, visit our classrooms\, meet our teachers\, and get information on our curriculum and schedule. March 16\, 2017 4:30-6:00 pm Kindergarten 4:30 Preschool / 5:15 Pre-K Journey with us 1319 N. Cleveland Ave. Fergus Falls\, MN 56537 218.736.2477\n\n| office@morningson.org | MorningSon.org CHRISTIAN SCHOOL Since 1984 Classes are filling   enroll now!
X-ALT-DESC;FMTTYPE=text/html:Preschool\, Pre-kindergarten and Kindergarten Round Up Come discover how we can partner with you in your child&rsquo\;s education and faith journey. You are cordially invited to attend our Round-up\, visit our classrooms\, meet our teachers\, and get information on our curriculum and schedule. March 16\, 2017 4:30-6:00 pm Kindergarten 4:30 Preschool / 5:15 Pre-K Journey with us 1319 N. Cleveland Ave. Fergus Falls\, MN 56537 218.736.2477<br />\n| office@morningson.org | MorningSon.org CHRISTIAN SCHOOL Since 1984 Classes are filling &mdash\; enroll now!
LOCATION:
UID:e.314.38823
SEQUENCE:3
DTSTAMP:20260424T211425Z
URL:https://business.fergusfalls.com/events/details/journey-with-us-preschool-pre-kindergarten-kindergarten-round-up-38823
END:VEVENT

END:VCALENDAR
