BEGIN:VCALENDAR
VERSION:2.0
PRODID:-//ChamberMaster//Event Calendar 2.0//EN
METHOD:PUBLISH
X-PUBLISHED-TTL:P3D
REFRESH-INTERVAL:P3D
CALSCALE:GREGORIAN
BEGIN:VEVENT
DTSTART:20180617T000000Z
DTEND:20180617T030000Z
X-MICROSOFT-CDO-ALLDAYEVENT:FALSE
SUMMARY:Jul and the Chrome Wheel Band
DESCRIPTION:back by request Jul and Brandon in the Jul and the Chrome Wheel at Elks Point Bar and Grill.... playing a variety of dance music and good listening!
X-ALT-DESC;FMTTYPE=text/html:back by request Jul and Brandon in the Jul and the Chrome Wheel at Elks Point Bar and Grill.... playing a variety of dance music and good listening!
LOCATION:Elks Point Bar and Grill Fergus Falls
UID:e.314.47440
SEQUENCE:3
DTSTAMP:20260423T225807Z
URL:https://business.fergusfalls.com/events/details/jul-and-the-chrome-wheel-band-47440
END:VEVENT

END:VCALENDAR
