BEGIN:VCALENDAR
VERSION:2.0
PRODID:-//ChamberMaster//Event Calendar 2.0//EN
METHOD:PUBLISH
X-PUBLISHED-TTL:P3D
REFRESH-INTERVAL:P3D
CALSCALE:GREGORIAN
BEGIN:VEVENT
DTSTART:20160625T153000Z
DTEND:20160625T210000Z
X-MICROSOFT-CDO-ALLDAYEVENT:FALSE
SUMMARY:Junior Livestock Show - West Central MN
DESCRIPTION:West Central Minnesota Junior Livestock Show
X-ALT-DESC;FMTTYPE=text/html:West Central Minnesota Junior Livestock Show&nbsp\;&nbsp\;&nbsp\;&nbsp\;&nbsp\;
LOCATION:West Otter Tail County Fairgrounds\, Fergus Falls\, MN
UID:e.314.32881
SEQUENCE:3
DTSTAMP:20260425T130652Z
URL:https://business.fergusfalls.com/events/details/junior-livestock-show-west-central-mn-06-25-2016-32881
END:VEVENT

END:VCALENDAR
