BEGIN:VCALENDAR
VERSION:2.0
PRODID:-//ChamberMaster//Event Calendar 2.0//EN
METHOD:PUBLISH
X-PUBLISHED-TTL:P3D
REFRESH-INTERVAL:P3D
CALSCALE:GREGORIAN
BEGIN:VEVENT
DTSTART:20160430T150000Z
DTEND:20160430T210000Z
X-MICROSOFT-CDO-ALLDAYEVENT:FALSE
SUMMARY:Junk Love Craft Show!
DESCRIPTION:Junk Love! Shop Indoors -- dozens of artists\, crafters and vendors.\n\nFood & Beverages available.\n\nHosted by MiMi Rae's & AddyGrace\n\nCome Shop from Wonderful Artists & Crafters!!\n\nFun Kid Activities Being Planned!!\n\nHope to See You There!!
X-ALT-DESC;FMTTYPE=text/html:Junk Love! Shop Indoors -- dozens of artists\, crafters and vendors.<br />\nFood &amp\; Beverages available.<br />\nHosted by MiMi Rae&#39\;s &amp\; AddyGrace<br />\nCome Shop from Wonderful Artists &amp\; Crafters!!<br />\nFun Kid Activities Being Planned!!<br />\nHope to See You There!!
LOCATION:West Otter Tail County Fairgrounds 1812 Pebble Lake Road Fergus Falls\, MN There are 2 entrances to the Fairgrounds\; on Pebble Lake Rd and another entrance off of the MN 210 E by-pass. From I-94\, take Exit 57\, turn north toward Fergus Falls and travel approximately 1.5 miles to the Fairgrounds Entrance\, just past the Prairie Wetlands Learning Center.
UID:e.314.31108
SEQUENCE:3
DTSTAMP:20260425T163036Z
URL:https://business.fergusfalls.com/events/details/junk-love-craft-show-04-30-2016-31108
END:VEVENT

END:VCALENDAR
