BEGIN:VCALENDAR
VERSION:2.0
PRODID:-//ChamberMaster//Event Calendar 2.0//EN
METHOD:PUBLISH
X-PUBLISHED-TTL:P3D
REFRESH-INTERVAL:P3D
CALSCALE:GREGORIAN
BEGIN:VEVENT
DTSTART:20171125T150000Z
DTEND:20171125T210000Z
X-MICROSOFT-CDO-ALLDAYEVENT:FALSE
SUMMARY:Junk Love Winter Show
DESCRIPTION:Small Business Saturday is Going to Be Fun with This Great Event!! \n\n\n\nWe're So Excited to Bring Junk Love to the Armory for Our Winter Show!
X-ALT-DESC;FMTTYPE=text/html:<span style="color: rgb(75\, 79\, 86)\; font-family: Helvetica\, Arial\, sans-serif\; font-size: 14px\; background-color: rgb(255\, 255\, 255)\;">Small Business Saturday is Going to Be Fun with This Great Event!!&nbsp\;</span><br style="color: rgb(75\, 79\, 86)\; font-family: Helvetica\, Arial\, sans-serif\; font-size: 14px\; background-color: rgb(255\, 255\, 255)\;" />\n<br style="color: rgb(75\, 79\, 86)\; font-family: Helvetica\, Arial\, sans-serif\; font-size: 14px\; background-color: rgb(255\, 255\, 255)\;" />\n<span style="color: rgb(75\, 79\, 86)\; font-family: Helvetica\, Arial\, sans-serif\; font-size: 14px\; background-color: rgb(255\, 255\, 255)\;">We&#39\;re So Excited to Bring Junk Love to the Armory for Our Winter Show!</span>
LOCATION:Armory Fergus Falls
UID:e.314.41049
SEQUENCE:3
DTSTAMP:20260424T091526Z
URL:https://business.fergusfalls.com/events/details/junk-love-winter-show-41049
END:VEVENT

END:VCALENDAR
