BEGIN:VCALENDAR
VERSION:2.0
PRODID:-//ChamberMaster//Event Calendar 2.0//EN
METHOD:PUBLISH
X-PUBLISHED-TTL:P3D
REFRESH-INTERVAL:P3D
CALSCALE:GREGORIAN
BEGIN:VEVENT
DTSTART:20160415T170000Z
DTEND:20160415T220000Z
X-MICROSOFT-CDO-ALLDAYEVENT:FALSE
SUMMARY:Kaddatz Galleries - Jenny Field: Cathartic Color
DESCRIPTION:Jenny Field: CathARTic Color\n\nMarch 29th   May 7th\n\nReception and Artist's Talk: Thursday\, March 31st\, 4-7pm
X-ALT-DESC;FMTTYPE=text/html:<p style="text-align: center\;">Jenny Field: CathARTic Color<br />\n<strong>March 29th &ndash\; May 7th</strong><br />\n<strong>Reception and Artist&rsquo\;s Talk: Thursday\, March 31st\, 4-7pm</strong></p>\n
LOCATION:Kaddatz Galleries\, LTD 111 W Lincoln Fergus Falls\, MN 56537
UID:e.314.32085
SEQUENCE:3
DTSTAMP:20260425T163507Z
URL:https://business.fergusfalls.com/events/details/kaddatz-galleries-jenny-field-cathartic-color-04-15-2016-32085
END:VEVENT

END:VCALENDAR
