BEGIN:VCALENDAR
VERSION:2.0
PRODID:-//ChamberMaster//Event Calendar 2.0//EN
METHOD:PUBLISH
X-PUBLISHED-TTL:P3D
REFRESH-INTERVAL:P3D
CALSCALE:GREGORIAN
BEGIN:VEVENT
DTSTART:20160114T220000Z
DTEND:20160115T010000Z
X-MICROSOFT-CDO-ALLDAYEVENT:FALSE
SUMMARY:Kaddatz Galleries- Reception & Artists Talk
DESCRIPTION:Kaddatz Galleries\n\nReception & Artists Talk\n\nThursday\, January 14th\, 4-7pm\n\n\n\nJon Solinger:\n\nWorking Land
X-ALT-DESC;FMTTYPE=text/html:Kaddatz Galleries<br />\nReception &amp\; Artists Talk<br />\nThursday\, January 14th\, 4-7pm<br />\n<br />\nJon Solinger:<br />\nWorking Land
LOCATION:Kaddatz Galleries 111 W Lincoln Ave Fergus Falls MN
UID:e.314.27976
SEQUENCE:3
DTSTAMP:20260425T214902Z
URL:https://business.fergusfalls.com/events/details/kaddatz-galleries-reception-artists-talk-01-14-2016-27976
END:VEVENT

END:VCALENDAR
