BEGIN:VCALENDAR
VERSION:2.0
PRODID:-//ChamberMaster//Event Calendar 2.0//EN
METHOD:PUBLISH
X-PUBLISHED-TTL:P3D
REFRESH-INTERVAL:P3D
CALSCALE:GREGORIAN
BEGIN:VEVENT
DTSTART:20160416T150000Z
DTEND:20160416T170000Z
X-MICROSOFT-CDO-ALLDAYEVENT:FALSE
SUMMARY:Kaddatz Kidz Spring Series
DESCRIPTION:Kaddatz Kidz Spring Series\n\n\n	When April 9th\, 16th\, 23rd\, and 30th\n	Where Kaddatz Gallery\n	Cost $15 per session or $50 for all four\n\n\n\nA series of workshops that introduce budding artists to basic art skills and ideas. For grades K-3.\n\nApril 9th: Printmaking with Michael Weatherly\n\nApril 16th: Clay with Amanda Cross\n\nApril 23rd: 2D with Erika Smith\n\nApril 30th: Sculpture with Naomi Schliesman\n\n\n\nContact the Gallery for more information or to register\, 218-998-4405.
X-ALT-DESC;FMTTYPE=text/html:<h3>Kaddatz Kidz Spring Series</h3>\n\n<ul class="event_details">\n	<li><strong>When</strong> April 9th\, 16th\, 23rd\, and 30th</li>\n	<li><strong>Where</strong> Kaddatz Gallery</li>\n	<li><strong>Cost</strong> $15 per session or $50 for all four</li>\n</ul>\n\n<div class="event_description">\n<p>A series of workshops that introduce budding artists to basic art skills and ideas. For grades K-3.</p>\n\n<p>April 9th:&nbsp\;Printmaking with Michael Weatherly<br />\nApril 16th: Clay&nbsp\;with Amanda Cross<br />\nApril 23rd: 2D with&nbsp\;Erika Smith<br />\nApril 30th: Sculpture with Naomi Schliesman</p>\n</div>\n<br />\n<strong><span style="font-size: 10pt\;"><span style="font-family: arial\,sans-serif\;"><span style="color: black\;">Contact the Gallery for more information or to register\, 218-998-4405.</span></span></span></strong>
LOCATION:Kaddatz Gallery
UID:e.314.32113
SEQUENCE:3
DTSTAMP:20260425T162959Z
URL:https://business.fergusfalls.com/events/details/kaddatz-kidz-spring-series-04-16-2016-32113
END:VEVENT

END:VCALENDAR
