BEGIN:VCALENDAR
VERSION:2.0
PRODID:-//ChamberMaster//Event Calendar 2.0//EN
METHOD:PUBLISH
X-PUBLISHED-TTL:P3D
REFRESH-INTERVAL:P3D
CALSCALE:GREGORIAN
BEGIN:VEVENT
DTSTART:20160521T140000Z
DTEND:20160521T200000Z
X-MICROSOFT-CDO-ALLDAYEVENT:FALSE
SUMMARY:Kaddatz Plein Air Pop-Up
DESCRIPTION:Plein Air Painting: Saturday\, May 21st\, 9am-3pm\n\n\n\nExplore the landscape of Otter Tail County and discover the joy of painting and drawing outdoors this summer with our Plein Air Pop-Up projects! \n\n\n\nAn introduction to drawing outdoors. Learn how to quickly sketch out a scene\, create compositions\, develop a plein air color palette\, and more. Painting class will use oils. All materials provided.\n\n\n\nStudents will meet at the Kaddatz and then carpool to the location. Bring a sack lunch.\n\n\n\nParticipants will also be invited to participate in our Plein Air Drawing group and open studio time at the Kaddatz throughout the summer to continue work on their projects. You can also submit work made during these events to be exhibited in StudidK during the month of September. \n\n\n\nRegistration fee is $20. Scholarships available.\n\nRegister online at http://kaddatzgalleries.org/get-involved/workshops-events/\n\n\n\nThis activity is made possible by the voters of Minnesota through grants from the Lake Region Arts Council\, thanks to a legislative appropriation from the Arts and Cultural Heritage fund.
X-ALT-DESC;FMTTYPE=text/html:<span style="color: rgb(75\, 79\, 86)\; font-family: helvetica\, arial\, sans-serif\; font-size: 14px\; line-height: 18.76px\;">Plein Air Painting: Saturday\, May 21st\, 9am-3pm</span><br style="color: rgb(75\, 79\, 86)\; font-family: helvetica\, arial\, sans-serif\; font-size: 14px\; line-height: 18.76px\;" />\n<br style="color: rgb(75\, 79\, 86)\; font-family: helvetica\, arial\, sans-serif\; font-size: 14px\; line-height: 18.76px\;" />\n<span style="color: rgb(75\, 79\, 86)\; font-family: helvetica\, arial\, sans-serif\; font-size: 14px\; line-height: 18.76px\;">Explore the landscape of Otter Tail County and discover the joy of painting and drawing outdoors this summer with our Plein Air Pop-Up projects!&nbsp\;</span><br style="color: rgb(75\, 79\, 86)\; font-family: helvetica\, arial\, sans-serif\; font-size: 14px\; line-height: 18.76px\;" />\n<br style="color: rgb(75\, 79\, 86)\; font-family: helvetica\, arial\, sans-serif\; font-size: 14px\; line-height: 18.76px\;" />\n<span style="color: rgb(75\, 79\, 86)\; font-family: helvetica\, arial\, sans-serif\; font-size: 14px\; line-height: 18.76px\;">An introduction to drawing outdoors. Learn how to quickly sketch out a scene\, create compositions\, develop a plein air color palette\, and more. Painting class will use oils. All materials provided.</span><br style="color: rgb(75\, 79\, 86)\; font-family: helvetica\, arial\, sans-serif\; font-size: 14px\; line-height: 18.76px\;" />\n<br style="color: rgb(75\, 79\, 86)\; font-family: helvetica\, arial\, sans-serif\; font-size: 14px\; line-height: 18.76px\;" />\n<span style="color: rgb(75\, 79\, 86)\; font-family: helvetica\, arial\, sans-serif\; font-size: 14px\; line-height: 18.76px\;">Students will meet at the Kaddatz and then carpool to the location. Bring a sack lunch.</span><br style="color: rgb(75\, 79\, 86)\; font-family: helvetica\, arial\, sans-serif\; font-size: 14px\; line-height: 18.76px\;" />\n<br style="color: rgb(75\, 79\, 86)\; font-family: helvetica\, arial\, sans-serif\; font-size: 14px\; line-height: 18.76px\;" />\n<span style="color: rgb(75\, 79\, 86)\; font-family: helvetica\, arial\, sans-serif\; font-size: 14px\; line-height: 18.76px\;">Participants will also be invited to participate in our Plein Air Drawing group and open studio time at the Kaddatz throughout the summer to continue work on t</span><span class="text_exposed_show" style="display: inline\; color: rgb(75\, 79\, 86)\; font-family: helvetica\, arial\, sans-serif\; font-size: 14px\; line-height: 18.76px\;">heir projects. You can also submit work made during these events to be exhibited in StudidK during the month of September.&nbsp\;<br />\n<br />\nRegistration fee is $20. Scholarships available.<br />\nRegister online at&nbsp\;<a href="http://kaddatzgalleries.org/get-involved/workshops-events/" rel="nofollow nofollow" style="color: rgb(54\, 88\, 153)\; cursor: pointer\; text-decoration: none\;" target="_blank">http://<wbr />kaddatzgalleries.org/<wbr />get-involved/<wbr />workshops-events/</a><br />\n<br />\nThis activity is made possible by the voters of Minnesota through grants from the Lake Region Arts Council\, thanks to a legislative appropriation from the Arts and Cultural Heritage fund.</span>
LOCATION:
UID:e.314.32730
SEQUENCE:3
DTSTAMP:20260425T163224Z
URL:https://business.fergusfalls.com/events/details/kaddatz-plein-air-pop-up-05-21-2016-32730
END:VEVENT

END:VCALENDAR
