BEGIN:VCALENDAR
VERSION:2.0
PRODID:-//ChamberMaster//Event Calendar 2.0//EN
METHOD:PUBLISH
X-PUBLISHED-TTL:P3D
REFRESH-INTERVAL:P3D
CALSCALE:GREGORIAN
BEGIN:VEVENT
DTSTART:20160611T180000Z
DTEND:20160611T220000Z
X-MICROSOFT-CDO-ALLDAYEVENT:FALSE
SUMMARY:Kaddatz Plein Air Pop-Up at Summerfest
DESCRIPTION:Plein Air Demonstration at Summerfest with Jacqueline Ness-Ludwig\n\nSaturday\, June 11th\, 1-5pm\n\nFree and open to the public
X-ALT-DESC;FMTTYPE=text/html:<span style="color: rgb(75\, 79\, 86)\; font-family: helvetica\, arial\, sans-serif\; font-size: 14px\; line-height: 18.76px\;">Plein Air Demonstration at Summerfest with Jacqueline Ness-Ludwig</span><br style="color: rgb(75\, 79\, 86)\; font-family: helvetica\, arial\, sans-serif\; font-size: 14px\; line-height: 18.76px\;" />\n<span style="color: rgb(75\, 79\, 86)\; font-family: helvetica\, arial\, sans-serif\; font-size: 14px\; line-height: 18.76px\;">Saturday\, June 11th\, 1-5pm</span><br style="color: rgb(75\, 79\, 86)\; font-family: helvetica\, arial\, sans-serif\; font-size: 14px\; line-height: 18.76px\;" />\n<span style="color: rgb(75\, 79\, 86)\; font-family: helvetica\, arial\, sans-serif\; font-size: 14px\; line-height: 18.76px\;">Free and open to the public</span>
LOCATION:Summerfest
UID:e.314.32731
SEQUENCE:3
DTSTAMP:20260425T131139Z
URL:https://business.fergusfalls.com/events/details/kaddatz-plein-air-pop-up-at-summerfest-06-11-2016-32731
END:VEVENT

END:VCALENDAR
