BEGIN:VCALENDAR
VERSION:2.0
PRODID:-//ChamberMaster//Event Calendar 2.0//EN
METHOD:PUBLISH
X-PUBLISHED-TTL:P3D
REFRESH-INTERVAL:P3D
CALSCALE:GREGORIAN
BEGIN:VEVENT
DTSTART:20181208T190000Z
DTEND:20181208T210000Z
X-MICROSOFT-CDO-ALLDAYEVENT:FALSE
SUMMARY:KIDS CHRISTMAS PARTY
DESCRIPTION:KIDS CHRISTMAS PARTY\n\nSpecial Guest Comes At 2pm\n\nFun games & activities that your kids will love. Prizes in store for kids through coloring contest & drawing.
X-ALT-DESC;FMTTYPE=text/html:<p><span style="font-size: 18px\;"><b><font face="AlorBold"><font face="AlorBold">KIDS CHRISTMAS <b><font face="AlorBold"><font face="AlorBold">PARTY</font></font></b></font></font></b></span></p>\n\n<p align="LEFT"><strong><font face="Univers-Black" size="3"><font face="Univers-Black" size="3">Special Guest Comes At 2pm</font></font></strong></p>\n\n<p align="LEFT"><font face="Univers" size="2"><font face="Univers" size="2">Fun games &amp\; activities that your kids <font face="Univers" size="2"><font face="Univers" size="2">will love. Prizes in store for kids <font face="Univers" size="2"><font face="Univers" size="2">through coloring contest &amp\; drawing.</font></font></font></font></font></font></p>\n
LOCATION:Eagles Aerie 2339 120 S. Peck St.\, Fergus Falls\, MN
UID:e.314.52055
SEQUENCE:3
DTSTAMP:20260423T122115Z
URL:https://business.fergusfalls.com/events/details/kids-christmas-party-52055
END:VEVENT

END:VCALENDAR
