BEGIN:VCALENDAR
VERSION:2.0
PRODID:-//ChamberMaster//Event Calendar 2.0//EN
METHOD:PUBLISH
X-PUBLISHED-TTL:P3D
REFRESH-INTERVAL:P3D
CALSCALE:GREGORIAN
BEGIN:VEVENT
DTSTART:20180407T210000Z
DTEND:20180408T030000Z
X-MICROSOFT-CDO-ALLDAYEVENT:FALSE
SUMMARY:Kids Eat Free
DESCRIPTION:Kids Eat Free \n\n\n\nEvery Tuesday & Saturday \n\nfrom \n\n4 pm till 10 pm \n\n\n\nOne free childrens meal with the purchase of an adult entree
X-ALT-DESC;FMTTYPE=text/html:Kids Eat Free&nbsp\;<br />\n<br />\nEvery Tuesday &amp\; Saturday&nbsp\;<br />\nfrom&nbsp\;<br />\n4 pm till 10 pm&nbsp\;<br />\n<br />\nOne free childrens meal with the purchase of an adult entree
LOCATION:Perkins Restaurant & Bakery Fergus Falls\, MN
UID:e.314.17390
SEQUENCE:3
DTSTAMP:20260423T235611Z
URL:https://business.fergusfalls.com/events/details/kids-eat-free-04-07-2018-17390
END:VEVENT

END:VCALENDAR
