BEGIN:VCALENDAR
VERSION:2.0
PRODID:-//ChamberMaster//Event Calendar 2.0//EN
METHOD:PUBLISH
X-PUBLISHED-TTL:P3D
REFRESH-INTERVAL:P3D
CALSCALE:GREGORIAN
BEGIN:VEVENT
DTSTART:20190221T170000Z
DTEND:20190222T020000Z
X-MICROSOFT-CDO-ALLDAYEVENT:FALSE
SUMMARY:Kids Eat Free @ the Z103 Bar & Grill
DESCRIPTION:Z103 Bar & Grill \n\nKids Eat Free\n\nWith the purchase of an adult meal
X-ALT-DESC;FMTTYPE=text/html:<span style="color: rgb(255\, 0\, 0)\;"><span style="font-size: 16px\;"><strong>Z103 Bar &amp\; Grill </strong></span></span><br />\n<strong>Kids Eat Free<br />\nWith the purchase of an adult meal</strong>
LOCATION:Z103 Bar & Grill/''House of Rock'' 925 Western Avenue Fergus Falls
UID:e.314.23399
SEQUENCE:3
DTSTAMP:20260423T110215Z
URL:https://business.fergusfalls.com/events/details/kids-eat-free-the-z103-bar-grill-02-21-2019-23399
END:VEVENT

END:VCALENDAR
