BEGIN:VCALENDAR
VERSION:2.0
PRODID:-//ChamberMaster//Event Calendar 2.0//EN
METHOD:PUBLISH
X-PUBLISHED-TTL:P3D
REFRESH-INTERVAL:P3D
CALSCALE:GREGORIAN
BEGIN:VEVENT
DTSTART:20151027T220000Z
DTEND:20151028T000000Z
X-MICROSOFT-CDO-ALLDAYEVENT:FALSE
SUMMARY:Kids Halloween Party VFW
DESCRIPTION:VFW Hosts Kids Halloween Party\n\n\n\nTues Oct 27th\n\n5pm-7pm
X-ALT-DESC;FMTTYPE=text/html:<strong>VFW Hosts Kids Halloween Party<br />\n<br />\nTues Oct 27th<br />\n5pm-7pm </strong>
LOCATION:VFW 420 East Washington Ave Fergus Falls
UID:e.314.25083
SEQUENCE:3
DTSTAMP:20260426T030309Z
URL:https://business.fergusfalls.com/events/details/kids-halloween-party-vfw-10-27-2015-25083
END:VEVENT

END:VCALENDAR
