BEGIN:VCALENDAR
VERSION:2.0
PRODID:-//ChamberMaster//Event Calendar 2.0//EN
METHOD:PUBLISH
X-PUBLISHED-TTL:P3D
REFRESH-INTERVAL:P3D
CALSCALE:GREGORIAN
BEGIN:VEVENT
DTSTART:20171024T220000Z
DTEND:20171025T000000Z
X-MICROSOFT-CDO-ALLDAYEVENT:FALSE
SUMMARY:Kids Halloween Trunk or Treat with Community Heroes
DESCRIPTION:Our annual kids pre-Halloween celebration features the opportunity to mingle with our local community heroes!Veterans\, Military\, Firefighters\, EMT\, and Law Enforcement personnel and their vehicles will greet children and pass out candy.
X-ALT-DESC;FMTTYPE=text/html:<span class="_4n-j _3cht fsl" data-testid="event-permalink-details">Our annual kids pre-Halloween celebration features the opportunity to mingle with our local community heroes!Veterans\, Military\, Firefighters\, EMT\, and Law Enforcement personnel and their vehicles will greet children and pass out candy.</span>
LOCATION:VFW Post 612 420 E. Washington Ave Fergus Falls
UID:e.314.42867
SEQUENCE:3
DTSTAMP:20260424T110009Z
URL:https://business.fergusfalls.com/events/details/kids-halloween-trunk-or-treat-with-community-heroes-42867
END:VEVENT

END:VCALENDAR
