BEGIN:VCALENDAR
VERSION:2.0
PRODID:-//ChamberMaster//Event Calendar 2.0//EN
METHOD:PUBLISH
X-PUBLISHED-TTL:P3D
REFRESH-INTERVAL:P3D
CALSCALE:GREGORIAN
BEGIN:VEVENT
DTSTART:20180814T220000Z
DTEND:20180815T003000Z
X-MICROSOFT-CDO-ALLDAYEVENT:FALSE
SUMMARY:Kim Bertram Benefit
DESCRIPTION:Kim Bertram\, age 22\, has been diagnosed with leukemia and is the process of treatment for the disease. Because her immune system is low\, she is unable to work. The menu will be pulled pork sandwiches\, beans\, chips and ice cream. There will also be a bake sale and silent auction.
X-ALT-DESC;FMTTYPE=text/html:Kim Bertram\, age 22\, has been diagnosed with leukemia and is the process of treatment for the disease. Because her immune system is low\, she is unable to work. The menu will be pulled pork sandwiches\, beans\, chips and ice cream. There will also be a bake sale and silent auction.
LOCATION:Grace United Methodist Church 1100 Friberg Ave Fergus Falls\, MN
UID:e.314.50035
SEQUENCE:3
DTSTAMP:20260423T193601Z
URL:https://business.fergusfalls.com/events/details/kim-bertram-benefit-50035
END:VEVENT

END:VCALENDAR
