BEGIN:VCALENDAR
VERSION:2.0
PRODID:-//ChamberMaster//Event Calendar 2.0//EN
METHOD:PUBLISH
X-PUBLISHED-TTL:P3D
REFRESH-INTERVAL:P3D
CALSCALE:GREGORIAN
BEGIN:VEVENT
DTSTART:20210729T110000Z
DTEND:20210729T130000Z
X-MICROSOFT-CDO-ALLDAYEVENT:FALSE
SUMMARY:Kimble Bromley Artist Reception
DESCRIPTION:Artist Reception & Artist Talk (at 7PM) with Kaddatz Galleries' main gallery exhibiting artist\, Kimble Bromley.\n\nFree and open to the public.
X-ALT-DESC;FMTTYPE=text/html:Artist Reception &amp\; Artist Talk (at 7PM) with Kaddatz Galleries&#39\; main gallery exhibiting artist\, Kimble Bromley.<br />\nFree and open to the public.<br />\n&nbsp\;
LOCATION:Kaddatz Galleries\, 111 W Lincoln Ave\, Fergus Falls\, MN 56537
UID:e.314.62451
SEQUENCE:3
DTSTAMP:20260421T123340Z
URL:https://business.fergusfalls.com/events/details/kimble-bromley-artist-reception-62451
END:VEVENT

END:VCALENDAR
