BEGIN:VCALENDAR
VERSION:2.0
PRODID:-//ChamberMaster//Event Calendar 2.0//EN
METHOD:PUBLISH
X-PUBLISHED-TTL:P3D
REFRESH-INTERVAL:P3D
CALSCALE:GREGORIAN
BEGIN:VEVENT
DTSTART:20180319T220000Z
DTEND:20180319T230000Z
X-MICROSOFT-CDO-ALLDAYEVENT:FALSE
SUMMARY:Kindergarten Registration - Fergus Public Schools
DESCRIPTION:Kindergarten Registration for 2018-2019 is coming up!\n\n\n\nWe'll be welcoming the class of 2031! WOW!
X-ALT-DESC;FMTTYPE=text/html:<span class="_4n-j _fbReactionComponent__eventDetailsContentTags fsl" data-testid="event-permalink-details">Kindergarten Registration for 2018-2019 is coming up!<br />\n<br />\nWe&#39\;ll be welcoming the class of 2031! WOW!</span>
LOCATION:Mckinley Elementary 724 W Laurel Ave Fergus Falls
UID:e.314.43890
SEQUENCE:3
DTSTAMP:20260424T013110Z
URL:https://business.fergusfalls.com/events/details/kindergarten-registration-fergus-public-schools-43890
END:VEVENT

END:VCALENDAR
