BEGIN:VCALENDAR
VERSION:2.0
PRODID:-//ChamberMaster//Event Calendar 2.0//EN
METHOD:PUBLISH
X-PUBLISHED-TTL:P3D
REFRESH-INTERVAL:P3D
CALSCALE:GREGORIAN
BEGIN:VEVENT
DTSTART:20151121T010000Z
DTEND:20151121T030000Z
X-MICROSOFT-CDO-ALLDAYEVENT:FALSE
SUMMARY:Kinship Bunco Party!
DESCRIPTION:Kinship Bunco Party!\n\n\n\nFriday\, November 20\, 2015\n\n7:00 pm @ The Spot in Fergus Falls\n\n\n\n$20.00 per person\n\n\n\nTickets Available at The Market or by calling Kinship of Fergus Falls 998-9005\n\nLimited number of tickers available!\n\n\n\n$$ Cash Prizes $$\n\n\n\nProceeds benefit Kinship of Fergus Falls\n\n\n\n"Making a difference in the lives of children!"\n\n\n\nTo be a mentor contact Kinship of the Fergus Area at 218-998-9005
X-ALT-DESC;FMTTYPE=text/html:Kinship Bunco Party!<br />\n<br />\nFriday\, November 20\, 2015<br />\n7:00 pm @ The Spot in Fergus Falls<br />\n<br />\n$20.00 per person<br />\n<br />\nTickets Available at The Market or by calling Kinship of Fergus Falls 998-9005<br />\nLimited number of tickers available!<br />\n<br />\n$$ Cash Prizes $$<br />\n<br />\nProceeds benefit Kinship of Fergus Falls<br />\n<br />\n&quot\;Making a difference in the lives of children!&quot\;<br />\n<br />\nTo be a mentor contact Kinship of the Fergus Area at 218-998-9005
LOCATION:The Spot Panini & Wine 220 W. Lincoln Fergus Falls
UID:e.314.26456
SEQUENCE:3
DTSTAMP:20260426T011253Z
URL:https://business.fergusfalls.com/events/details/kinship-bunco-party-11-20-2015-26456
END:VEVENT

END:VCALENDAR
