BEGIN:VCALENDAR
VERSION:2.0
PRODID:-//ChamberMaster//Event Calendar 2.0//EN
METHOD:PUBLISH
X-PUBLISHED-TTL:P3D
REFRESH-INTERVAL:P3D
CALSCALE:GREGORIAN
BEGIN:VEVENT
DTSTART:20180815T170000Z
DTEND:20180815T180000Z
X-MICROSOFT-CDO-ALLDAYEVENT:FALSE
SUMMARY:Knowledge @ Noon - Property Acquisition
DESCRIPTION:Young Professionals Network - Fergus Falls presents Knowledge@Noon \n\n\n\nProperty Acquisition - Wednesday August 15th \n\n\n\nThis is an exciting K@N on Property Acquisition. Join us as we hear from the experts on Residential & Commercial purchases. More details to come...\n\n\n\n\n\nThis event is FREE for members (registration required) and includes a full meal. For members with dietary requirements\, please contact the Chamber directly at (218) 736-6951.\n\n\n\n- About Knowledge@Noon -\n\nNow is the time to invest in yourself and your career. At bi-monthly professional development events\, you will he...ar from prominent business leaders\, public officials and industry experts as they explore the latest regional issues and share tips/career advice. Gain valuable networking and leadership skills through YPN's skill-building workshops that cover topics such as strategic networking and the importance of having a mentor.\n\n\n\n- About YPN -\n\nToday's young professionals are tomorrow's leaders! As the premier organization of its kind in the region\, the Fergus Falls YPN will help you improve your career\, develop your leadership abilities\, build your professional network\, and give back to the Fergus Falls community.\n\n\n\n- To Register -\n\nCall the Chamber of Commerce or use email link sent prior to event.\n\n*If you are a paid YPN member\, enter promo code "FFYPN" and the $30 non-member fee will be reversed.*
X-ALT-DESC;FMTTYPE=text/html:<strong><span style="font-size: 14px\;"><span style="font-family: verdana\;"><span style="color: rgb(0\, 0\, 255)\;">Young Professionals Network</span> - Fergus Falls presents <span style="color: rgb(0\, 128\, 0)\;">Knowledge@Noon </span><br />\n<br />\nProperty Acquisition - Wednesday August 15th </span></span></strong><br />\n<br />\nThis is an exciting K@N on Property Acquisition.&nbsp\;Join us as we hear&nbsp\;from the experts on Residential &amp\; Commercial purchases. More details to come...<br />\n<br />\n<br />\nThis event is FREE for members (registration required) and includes a full meal. For members with dietary requirements\, please contact the Chamber directly at (218) 736-6951.<br />\n<br />\n<strong>- About Knowledge@Noon -</strong><br />\nNow is the time to invest in yourself and your career. At bi-monthly professional development events\, you will he<span class="text_exposed_hide">...</span><span class="text_exposed_show">ar from prominent business leaders\, public officials and industry experts as they explore the latest regional issues and share tips/career advice. Gain valuable networking and leadership skills through YPN&rsquo\;s skill-building workshops that cover topics such as strategic networking and the importance of having a mentor.<br />\n<br />\n<strong>- About YPN -</strong><br />\nToday&rsquo\;s young professionals are tomorrow&rsquo\;s leaders! As the premier organization of its kind in the region\, the Fergus Falls YPN will help you improve your career\, develop your leadership abilities\, build your professional network\, and give back to the Fergus Falls community.<br />\n<br />\n<strong>- To Register -</strong><br />\nCall the Chamber of Commerce or use email link sent prior to event.<br />\n*If you are a paid YPN member\, enter promo code &quot\;<strong>FFYPN</strong>&quot\; and the $30 non-member fee will be reversed.*</span><br />\n<br />\n&nbsp\;
LOCATION:Eagles Ship (Upstairs) 120 S Peck St. Fergus Falls MN 56537 (Pulled Pork Sandwiches\, Coleslaw\, Fruit Salad. If you need a vegitarian meal please let us know at registration.)
UID:e.314.50290
SEQUENCE:3
DTSTAMP:20260423T180907Z
URL:https://business.fergusfalls.com/events/details/knowledge-noon-property-acquisition-50290
END:VEVENT

END:VCALENDAR
