BEGIN:VCALENDAR
VERSION:2.0
PRODID:-//ChamberMaster//Event Calendar 2.0//EN
METHOD:PUBLISH
X-PUBLISHED-TTL:P3D
REFRESH-INTERVAL:P3D
CALSCALE:GREGORIAN
BEGIN:VEVENT
DTSTART:20151014T140000Z
DTEND:20151014T160000Z
X-MICROSOFT-CDO-ALLDAYEVENT:FALSE
SUMMARY:Knute Nelson - Open House / Ribbon cutting
DESCRIPTION:You're Invited!- Join us for a Continental breakfast\, refreshments and Chamber Ribbon Cutting to meet the Knute Nelson Home Care team.\n\n\n\nOctober 14th\, 2015\n\n\n\n9:00a.m - 11a.m - Ribbon Cutting ceremony at 10a.m\n\n\n\n119 E Lincoln Ave\n\nFergus Falls\, MN 56537
X-ALT-DESC;FMTTYPE=text/html:<strong><span style="font-size: 18px\;">You&#39\;re Invited!- Join us for a Continental breakfast\, refreshments and <span style="color: rgb(0\, 0\, 255)\;">Chamber Ribbon Cutting</span> to meet the <span style="color: rgb(0\, 128\, 0)\;">Knute Nelson Home Care</span> team.</span><br />\n<br />\nOctober 14th\, 2015<br />\n<br />\n9:00a.m - 11a.m -&nbsp\;Ribbon Cutting ceremony at 10a.m<br />\n<br />\n119 E Lincoln Ave<br />\nFergus Falls\, MN 56537</strong><br />\n&nbsp\;
LOCATION:119 E Lincoln Ave. Fergus Falls\, MN 56537
UID:e.314.24196
SEQUENCE:3
DTSTAMP:20260426T030310Z
URL:https://business.fergusfalls.com/events/details/knute-nelson-open-house-ribbon-cutting-10-14-2015-24196
END:VEVENT

END:VCALENDAR
