BEGIN:VCALENDAR
VERSION:2.0
PRODID:-//ChamberMaster//Event Calendar 2.0//EN
METHOD:PUBLISH
X-PUBLISHED-TTL:P3D
REFRESH-INTERVAL:P3D
CALSCALE:GREGORIAN
BEGIN:VEVENT
DTSTART:20181222T160000Z
DTEND:20181222T200000Z
X-MICROSOFT-CDO-ALLDAYEVENT:FALSE
SUMMARY:Krampus Christmas
DESCRIPTION:Krampus is Coming to Town You better watch out\, you better not pout Krampus is coming to the Otter Tail County Museum on Saturday\, Dec. 22\, 2018 from 10am-2pm. This traditional\, historical counterpart to Jolly Old Saint Nick is a hairy\, scary beast ready to punish the naughty ones at Christmastime with his basket of switches. Museum visitors that day can learn more about this Christmas creature who dates back to pagan times. Other activities include: making a mini-Krampus craft\, taking a Krampus selfie and creating and eating a Krampus cookie. The museum galleries and gift shop will also be open that day.
X-ALT-DESC;FMTTYPE=text/html:Krampus is Coming to Town You better watch out\, you better not pout Krampus is coming to the Otter Tail County Museum on Saturday\, Dec. 22\, 2018 from 10am-2pm. This traditional\, historical counterpart to Jolly Old Saint Nick is a hairy\, scary beast ready to punish the naughty ones at Christmastime with his basket of switches. Museum visitors that day can learn more about this Christmas creature who dates back to pagan times. Other activities include: making a mini-Krampus craft\, taking a Krampus selfie and creating and eating a Krampus cookie. The museum galleries and gift shop will also be open that day.
LOCATION:Otter Tail County Museum
UID:e.314.52107
SEQUENCE:3
DTSTAMP:20260423T121939Z
URL:https://business.fergusfalls.com/events/details/krampus-christmas-52107
END:VEVENT

END:VCALENDAR
