BEGIN:VCALENDAR
VERSION:2.0
PRODID:-//ChamberMaster//Event Calendar 2.0//EN
METHOD:PUBLISH
X-PUBLISHED-TTL:P3D
REFRESH-INTERVAL:P3D
CALSCALE:GREGORIAN
BEGIN:VEVENT
DTSTART:20151117T170000Z
DTEND:20151117T190000Z
X-MICROSOFT-CDO-ALLDAYEVENT:FALSE
SUMMARY:KW "Soups On" 2015
DESCRIPTION:In appreciation of our past\, present and future clients-\n\nStop in anytime between 11:00 - 1:00 and enjoy some delicious hot soup\, vote for your favorites (just ask us which ones Maria\, the RHH Team Leader and Lindsey\, the RHH Executive Assistant made!) and register to WIN gift cards to local restaurants! We are looking forward to having lunch with YOU!
X-ALT-DESC;FMTTYPE=text/html:<span class="fsl">In appreciation of our past\, present and future clients-<br />\nStop in anytime between 11:00 - 1:00 and enjoy some delicious hot soup\, vote for your favorites (just ask us which ones Maria\, the RHH Team Leader and Lindsey\, the RHH Executive Assistant made!) and register to WIN gift cards to local restaurants! We are looking forward to having lunch with YOU!</span>
LOCATION:225 W. Cavour Ave. Fergus Falls
UID:e.314.26459
SEQUENCE:3
DTSTAMP:20260426T011211Z
URL:https://business.fergusfalls.com/events/details/kw-soups-on-2015-11-17-2015-26459
END:VEVENT

END:VCALENDAR
