BEGIN:VCALENDAR
VERSION:2.0
PRODID:-//ChamberMaster//Event Calendar 2.0//EN
METHOD:PUBLISH
X-PUBLISHED-TTL:P3D
REFRESH-INTERVAL:P3D
CALSCALE:GREGORIAN
BEGIN:VEVENT
DTSTART:20161207T220000Z
DTEND:20161208T010000Z
X-MICROSOFT-CDO-ALLDAYEVENT:FALSE
SUMMARY:Ladies Day at Mauk Jewelers!
DESCRIPTION:You're invited to Ladies Day at Mauk Jewelers!\n\n\n\nJoin us Wednesday\, December 7th from 4pm-7pm at our downtown location in beautiful Fergus Falls.\n\n\n\nHighlights will include:\n\n\n\n- Complimentary appetizers from The Spot and refreshments\n\n- The opportunity to fill out your 2016/2017 Mauk Jewelers wish list!\n\n- The chance to win a prize!\n\n- Receive a 'hint card' with your wishes to let your significant other know exactly what you want for the holidays!\n\n\n\n**Don't forget to bring your friends!\n\n\n\nWe look forward to seeing you!\n\n- Jeff\, Roxy\, Jody\, Karin\, and Jeremy\n\n\n\nEvent artwork (and hint cards!) designed by the wonderful Teresa Magnuson.
X-ALT-DESC;FMTTYPE=text/html:You&#39\;re invited to Ladies Day at Mauk Jewelers!<br />\n<br />\nJoin us Wednesday\, December 7th from 4pm-7pm at our downtown location in beautiful Fergus Falls.<br />\n<br />\nHighlights will include:<br />\n<br />\n- Complimentary appetizers from The Spot and refreshments<br />\n- The opportunity to fill out your 2016/2017 Mauk Jewelers wish list!<br />\n- The chance to win a prize!<br />\n- Receive a &#39\;hint card&#39\; with your wishes to let your significant other know exactly what you want for the holidays!<br />\n<br />\n**Don&#39\;t forget to bring your friends!<br />\n<br />\nWe look forward to seeing you!<br />\n- Jeff\, Roxy\, Jody\, Karin\, and Jeremy<br />\n<br />\nEvent artwork (and hint cards!) designed by the wonderful Teresa Magnuson.
LOCATION:Mauk Jewelers 103 W Lincoln Ave Fergus Falls\, MN 56537
UID:e.314.37211
SEQUENCE:3
DTSTAMP:20260425T041127Z
URL:https://business.fergusfalls.com/events/details/ladies-day-at-mauk-jewelers-37211
END:VEVENT

END:VCALENDAR
