BEGIN:VCALENDAR
VERSION:2.0
PRODID:-//ChamberMaster//Event Calendar 2.0//EN
METHOD:PUBLISH
X-PUBLISHED-TTL:P3D
REFRESH-INTERVAL:P3D
CALSCALE:GREGORIAN
BEGIN:VEVENT
DTSTART:20171207T153000Z
DTEND:20171209T230000Z
X-MICROSOFT-CDO-ALLDAYEVENT:FALSE
SUMMARY:Ladies Day & Holiday Open House at Mauk Jewelers!
DESCRIPTION:Ladies Day & Holiday Open House at Mauk Jewelers!\n\n\n\nDecember 7 - December 9\n\n\n\nYou are invited to our annual Ladies Day & Holiday Open House!\n\n\n\nRing in the holiday season with refreshments and the opportunity to fill out your Holiday Wish List!\n\n\n\nPlus\, enter to win either a $25\, $50\, or $100 gift card!\n\n\n\nA 3-day event starting with Ladies Day on Thursday\, December 7th at 9:30am\, followed by the Holiday Open House on Friday\, December 8th and Saturday\, December 9th!\n\n\n\nWe hope to see you there!
X-ALT-DESC;FMTTYPE=text/html:Ladies Day &amp\; Holiday Open House at Mauk Jewelers!<br />\n<br />\nDecember 7 - December 9<br />\n<br />\n<span class="_4n-j _3cht fsl" data-testid="event-permalink-details">You are invited to our annual Ladies Day &amp\; Holiday Open House!<br />\n<br />\nRing in the holiday season with refreshments and the opportunity to fill out your Holiday Wish List!<br />\n<br />\nPlus\, enter to win either a $25\, $50\, or $100 gift card!<br />\n<br />\nA 3-day event starting with Ladies Day on Thursday\, December 7th at 9:30am\, followed by the Holiday Open House on Friday\, December 8th and Saturday\, December 9th!<br />\n<br />\nWe hope to see you there!</span><br />\n<br />\n&nbsp\;
LOCATION:Mauk Jewelers 103 W Lincoln Ave Fergus Falls Mn 56537
UID:e.314.43318
SEQUENCE:3
DTSTAMP:20260424T062331Z
URL:https://business.fergusfalls.com/events/details/ladies-day-holiday-open-house-at-mauk-jewelers-43318
END:VEVENT

END:VCALENDAR
