BEGIN:VCALENDAR
VERSION:2.0
PRODID:-//ChamberMaster//Event Calendar 2.0//EN
METHOD:PUBLISH
X-PUBLISHED-TTL:P3D
REFRESH-INTERVAL:P3D
CALSCALE:GREGORIAN
BEGIN:VEVENT
DTSTART:20151209T220000Z
DTEND:20151210T020000Z
X-MICROSOFT-CDO-ALLDAYEVENT:FALSE
SUMMARY:Ladies Night @ Mauk Jewelers
DESCRIPTION:Join us for a night filled with food & drinks!\n\nWed Dec 9th 4-8pm\n\n\n\nBring a friend!\n\nFill out your Holiday Wish List!\n\nFirst 50 ladies receive a Special Gift!\n\nEnter multiple drawings to win over $1000 in jewelry & door prizes!
X-ALT-DESC;FMTTYPE=text/html:Join us for a night filled with food &amp\; drinks!<br />\nWed Dec 9th 4-8pm<br />\n<br />\nBring a friend!<br />\nFill out your Holiday Wish List!<br />\nFirst 50 ladies receive a Special Gift!<br />\nEnter multiple drawings to win over $1000 in jewelry &amp\; door prizes!
LOCATION:Mauk Jewelers 103 W Lincoln Ave Fergus Falls
UID:e.314.27798
SEQUENCE:3
DTSTAMP:20260425T234019Z
URL:https://business.fergusfalls.com/events/details/ladies-night-mauk-jewelers-12-09-2015-27798
END:VEVENT

END:VCALENDAR
