BEGIN:VCALENDAR
VERSION:2.0
PRODID:-//ChamberMaster//Event Calendar 2.0//EN
METHOD:PUBLISH
X-PUBLISHED-TTL:P3D
REFRESH-INTERVAL:P3D
CALSCALE:GREGORIAN
BEGIN:VEVENT
DTSTART:20160119T213000Z
DTEND:20160120T020000Z
X-MICROSOFT-CDO-ALLDAYEVENT:FALSE
SUMMARY:Lake Alice Ice Rink & Warming House OPEN
DESCRIPTION:Enjoy the old time tradition of skating Lake Alice.  Share your memories and make new ones to last a lifetime.  Warming house is open.\n\n\n\nHours:\n\nSchool Days: 3:30 pm - 8:00 pm\n\nNon School Days: Noon - 8:00 pm\n\n\n\n*Closed if temperature is 0 or below or -10 windchill*
X-ALT-DESC;FMTTYPE=text/html:Enjoy the old time tradition of skating Lake Alice.&nbsp\; Share your memories and make new ones to last a lifetime.&nbsp\; Warming house is open.<br />\n<br />\nHours:<br />\nSchool Days: 3:30 pm - 8:00 pm<br />\nNon School Days: Noon - 8:00 pm<br />\n<br />\n<em>*Closed if temperature is 0 or below or -10 windchill*</em>
LOCATION:
UID:e.314.31615
SEQUENCE:3
DTSTAMP:20260425T215440Z
URL:https://business.fergusfalls.com/events/details/lake-alice-ice-rink-warming-house-open-01-19-2016-31615
END:VEVENT

END:VCALENDAR
