BEGIN:VCALENDAR
VERSION:2.0
PRODID:-//ChamberMaster//Event Calendar 2.0//EN
METHOD:PUBLISH
X-PUBLISHED-TTL:P3D
REFRESH-INTERVAL:P3D
CALSCALE:GREGORIAN
BEGIN:VEVENT
DTSTART;VALUE=DATE:20200124
DTEND;VALUE=DATE:20200125
TRANSP:TRANSPARENT
X-MICROSOFT-CDO-ALLDAYEVENT:TRUE
SUMMARY:Lake Region Arts Council Consortium Art Exhibit
DESCRIPTION:Lake Region Arts Council Consortium Exhibit\n\nThe community is invited to enjoy the work of Jodi Peterson\, Becky Albright\, Sean Scott\, Sharon Marquardt\, Grace Clark\, Mike Weatherly\, Katherine McDowell\, Torri Hanna and Inkpa Mani at the LRAC Exhibit.\n\nAn artists' recpetion is scheduled for Thursday\, February 6 form 2-4pm in Legacy Hall with Bridget Guiza performing on the violin.
X-ALT-DESC;FMTTYPE=text/html:Lake Region Arts Council Consortium Exhibit<br />\nThe community is invited to enjoy the work of Jodi Peterson\, Becky Albright\, Sean Scott\, Sharon Marquardt\, Grace Clark\, Mike Weatherly\, Katherine McDowell\, Torri Hanna and Inkpa Mani at the LRAC Exhibit.<br />\nAn artists&#39\; recpetion is scheduled for Thursday\, February 6 form 2-4pm in Legacy Hall with Bridget Guiza performing on the violin.
LOCATION:Charles Beck Gallery Minnesota State Community & Technical College 1414 College Way Fergus Falls
UID:e.314.56125
SEQUENCE:3
DTSTAMP:20260422T173454Z
URL:https://business.fergusfalls.com/events/details/lake-region-arts-council-consortium-art-exhibit-01-24-2020-56125
END:VEVENT

END:VCALENDAR
