BEGIN:VCALENDAR
VERSION:2.0
PRODID:-//ChamberMaster//Event Calendar 2.0//EN
METHOD:PUBLISH
X-PUBLISHED-TTL:P3D
REFRESH-INTERVAL:P3D
CALSCALE:GREGORIAN
BEGIN:VEVENT
DTSTART:20180607T220000Z
DTEND:20180608T010000Z
X-MICROSOFT-CDO-ALLDAYEVENT:FALSE
SUMMARY:Lake Region Electric Annual Member Meeting
DESCRIPTION:Please plan to attend the annual meeting of Lake Region Electric Cooperative. Join us for a meal catered by the Underwood Lions Club and Betty's Pantry at 5pm. The business meeting will follow at 6:30pm.
X-ALT-DESC;FMTTYPE=text/html:Please plan to attend the annual meeting of Lake Region Electric Cooperative. Join us for a meal catered by the Underwood Lions Club and Betty&#39\;s Pantry at 5pm. The business meeting will follow at 6:30pm.
LOCATION:Life Church Fergus Falls\, MN
UID:e.314.49925
SEQUENCE:3
DTSTAMP:20260423T213710Z
URL:https://business.fergusfalls.com/events/details/lake-region-electric-annual-member-meeting-49925
END:VEVENT

END:VCALENDAR
