BEGIN:VCALENDAR
VERSION:2.0
PRODID:-//ChamberMaster//Event Calendar 2.0//EN
METHOD:PUBLISH
X-PUBLISHED-TTL:P3D
REFRESH-INTERVAL:P3D
CALSCALE:GREGORIAN
BEGIN:VEVENT
DTSTART:20190201T233000Z
DTEND:20190202T020000Z
X-MICROSOFT-CDO-ALLDAYEVENT:FALSE
SUMMARY:Lake Region Healthcare Corporate Cup 2019
DESCRIPTION:Health & Wellness\n\nFergus Falls Corporate Cup\n\nWelcome to the 2019 Fergus Falls Corporate Cup.\n\nThis is our 5th year promoting team building\, fitness\, and camaraderie within the workplace. Corporate teams will compete for the title: Most Mentally & Physically Fit Company in Fergus Falls and a coveted Corporate Cup trophy which will be kept in the winner's local business on display until the team is invited to defend their title the following year.\n\n\n\nTeam Sizes 6-10 people\n\nAwards: Highly coveted Trophy & Cash Prizes for Worksite Wellness programs\n\nDate: Friday\, February 1\, 2019 5:30-8:00pm\n\nLocation: Kennedy Secondary School serves as the Corporate Cup Headquarters with various competition sites throughout Fergus Falls.\n\nQuestions? Give us a call at the Lake Region Healthcare Health & Wellness Hub 218.736.8451 or message us on Facebook.\n\n\n\nClick Here for Complete Rules\n\nClick Here for 2019 Corporate Cup Events
X-ALT-DESC;FMTTYPE=text/html:<h1>Health &amp\; Wellness</h1>\n\n<h2>Fergus Falls Corporate Cup</h2>\n\n<p>Welcome to the 2019 Fergus Falls Corporate Cup.</p>\n\n<p>This is our 5th year promoting <strong>team building</strong>\, fitness\, and camaraderie within the workplace. Corporate teams will compete for the title: Most Mentally &amp\; Physically Fit Company in Fergus Falls and a coveted Corporate Cup trophy which will be kept in the winner&#39\;s local business on display until the team is invited to defend their title the following year.<br />\n<br />\nTeam Sizes 6-10 people<br />\nAwards: Highly coveted Trophy &amp\; Cash Prizes for Worksite Wellness programs</p>\n\n<p><strong>Date:</strong> Friday\, February 1\, 2019 5:30-8:00pm<br />\n<strong>Location: </strong>Kennedy Secondary School serves as the Corporate Cup Headquarters with various competition sites throughout Fergus Falls.</p>\n\n<p>Questions? Give us a call at the Lake Region Healthcare Health &amp\; Wellness Hub <strong>218.736.8451</strong> or message us on <a href="https://www.facebook.com/Health-Wellness-Hub-at-Lake-Region-Healthcare-110760208957998/" target="_blank"><font color="#0066cc">Facebook</font></a>.<br />\n<br />\n<a href="https://www.lrhc.org/media/3134/general-rules-and-information.pdf" target="_blank">Click Here for Complete Rules</a><br />\n<a href="https://www.lrhc.org/media/3133/all-events-packet-order.pdf" target="_blank">Click Here for 2019 Corporate Cup Events</a></p>\n
LOCATION:Kennedy Secondary School Gold Gym Cleveland Hill (sledding)
UID:e.314.52091
SEQUENCE:3
DTSTAMP:20260423T094248Z
URL:https://business.fergusfalls.com/events/details/lake-region-healthcare-corporate-cup-2019-52091
END:VEVENT

END:VCALENDAR
