BEGIN:VCALENDAR
VERSION:2.0
PRODID:-//ChamberMaster//Event Calendar 2.0//EN
METHOD:PUBLISH
X-PUBLISHED-TTL:P3D
REFRESH-INTERVAL:P3D
CALSCALE:GREGORIAN
BEGIN:VEVENT
DTSTART:20160604T120000Z
DTEND:20160604T170000Z
X-MICROSOFT-CDO-ALLDAYEVENT:FALSE
SUMMARY:Lake Region Run
DESCRIPTION:The Lake Region Run is a Half Marathon\, Half Marathon Relay\, 5k\, 1-mile and Combo (5k & 1-mile) race!\n	\n	\n	\n	\n	 \n	\n	\n	Check out the new website at www.LakeRegionRun.com! All proceeds will be given to LRH Cancer Care & Research Center!\n\n	\n\n	Event Schedule\n\n	Friday\, June 3rd\, 5:00 - 8:00pm - Packet Pickup @ The Community Arena (340 Friberg Ave)\n\n	\n\n	Saturday\, June 4th\n\n	7:30 - 8:00am - Packet pick-up and registration @ The Community Arena\n\n	8:15am - Half Marathon & Relay Start\n\n	8:20am - 1-mile\n\n	9:00am - 5k Start \n\n	10:00am - 1 Mile & 5k Awards\n\n	11:00am - Half Marathon & Relay Awards\n\n	9:00am - Entertainment & post race food\n\n	\n\n	All ages and abilities welcome! There will be a trophy for top overall male & female half marathoners. Medals to first place in each relay division. Medals awarded to all who participate. Medals are given to the top three male and female half marathon and 5k finishers in age divisions (20-29\, 30-39\, 40-49\, 50-59\, 60-69\, 70+)\n\n	\n\n	All finishers will receive a medal.\n\n	\n\n	Sign up before April 30th to get the cheapest rate!\n\n	\n\n	All registrations prior to May 23rd will receive a race shirt. All other registrants will receive a pair of performance FitSoks. \n\n	\n\n	The LR Run is a part of the Fergus Falls Area Race Series! By registering for the LR Run\, you are automatically entered in to the series. Participation is FREE! See www.ffraces.com for more information.\n	\n	\n	\n	\n	\n	\n	\n	http://www.lakeregionrun.com http://www.ffraces.com http://www.lrhc.org
X-ALT-DESC;FMTTYPE=text/html:<ul class="uiList fbSettingsList _4kg _4ks" style="list-style-type: none\; margin: 0px\; padding-right: 0px\; padding-left: 0px\; border-bottom-style: none\; border-top-style: none\; min-width: 558px\; color: rgb(29\, 33\, 41)\; font-family: helvetica\, arial\, sans-serif\; font-size: 12px\; line-height: 16.08px\;">\n	<li style="border: 0px solid rgb(233\, 235\, 238)\;">\n	<div class="clearfix _2pi4" style="zoom: 1\; padding-bottom: 12px\; padding-top: 12px\;">\n	<div class="_4bl9" style="overflow: hidden\; word-wrap: break-word\;">\n	<div class="_50f4" style="font-size: 14px\; line-height: 18px\;">The Lake Region Run is a Half Marathon\, Half Marathon Relay\, 5k\, 1-mile and Combo (5k &amp\; 1-mile) race!</div>\n	</div>\n	</div>\n	</li>\n	<li style="border-width: 1px 0px 0px\; border-color: rgb(233\, 235\, 238)\; border-style: solid\;">\n	<div class="clearfix _2pi4" style="zoom: 1\; padding-bottom: 12px\; padding-top: 12px\;">&nbsp\;\n	<div class="_4bl9" style="overflow: hidden\; word-wrap: break-word\;">\n	<div class="_50f4" style="font-size: 14px\; line-height: 18px\;">\n	<div class="text_exposed_root text_exposed" id="id_573dc717352d47a78804327" style="display: inline\;">Check out the new website at&nbsp\;<a href="http://www.lakeregionrun.com/" rel="nofollow nofollow" style="color: rgb(54\, 88\, 153)\; cursor: pointer\; text-decoration: none\;" target="_blank">www.LakeRegionRun.com</a>! All proceeds will be given to LRH Cancer Care &amp\; Research Center!<br />\n	<br />\n	Event&nbsp\;<span class="text_exposed_show" style="display: inline\;">Schedule<br />\n	Friday\, June 3rd\, 5:00 - 8:00pm - Packet Pickup @ The Community Arena (340 Friberg Ave)<br />\n	<br />\n	Saturday\, June 4th<br />\n	7:30 - 8:00am - Packet pick-up and registration @ The Community Arena<br />\n	8:15am - Half Marathon &amp\; Relay Start<br />\n	8:20am - 1-mile<br />\n	9:00am - 5k Start&nbsp\;<br />\n	10:00am - 1 Mile &amp\; 5k Awards<br />\n	11:00am - Half Marathon &amp\; Relay Awards<br />\n	9:00am - Entertainment &amp\; post race food<br />\n	<br />\n	All ages and abilities welcome! There will be a trophy for top overall male &amp\; female half marathoners. Medals to first place in each relay division. Medals awarded to all who participate. Medals are given to the top three male and female half marathon and 5k finishers in age divisions (20-29\, 30-39\, 40-49\, 50-59\, 60-69\, 70+)<br />\n	<br />\n	All finishers will receive a medal.<br />\n	<br />\n	Sign up before April 30th to get the cheapest rate!<br />\n	<br />\n	All registrations prior to May 23rd will receive a race shirt. All other registrants will receive a pair of performance FitSoks.&nbsp\;<br />\n	<br />\n	The LR Run is a part of the Fergus Falls Area Race Series! By registering for the LR Run\, you are automatically entered in to the series. Participation is FREE! See&nbsp\;<a href="http://l.facebook.com/l.php?u=http%3A%2F%2Fwww.ffraces.com%2F&amp\;h=SAQH8RcCs&amp\;s=1" rel="nofollow nofollow" style="color: rgb(54\, 88\, 153)\; cursor: pointer\; text-decoration: none\;" target="_blank">www.ffraces.com</a>&nbsp\;for more information.</span></div>\n	</div>\n	</div>\n	</div>\n	</li>\n	<li style="border-width: 1px 0px 0px\; border-color: rgb(233\, 235\, 238)\; border-style: solid\;">\n	<div class="clearfix _2pi4" style="zoom: 1\; padding-bottom: 12px\; padding-top: 12px\;">\n	<div class="_4bl9" style="overflow: hidden\; word-wrap: break-word\;">\n	<div class="_50f4" style="font-size: 14px\; line-height: 18px\;"><a href="http://invalid.invalid/www.ffraces.com%20http://www.lrhc.org" rel="nofollow" style="color: rgb(54\, 88\, 153)\; cursor: pointer\; text-decoration: none\;" target="_blank">http://www.lakeregionrun.com http://www.ffraces.com http://www.lrhc.org</a></div>\n	</div>\n	</div>\n	</li>\n</ul>\n
LOCATION:
UID:e.314.32729
SEQUENCE:3
DTSTAMP:20260425T144438Z
URL:https://business.fergusfalls.com/events/details/lake-region-run-06-04-2016-32729
END:VEVENT

END:VCALENDAR
