BEGIN:VCALENDAR
VERSION:2.0
PRODID:-//ChamberMaster//Event Calendar 2.0//EN
METHOD:PUBLISH
X-PUBLISHED-TTL:P3D
REFRESH-INTERVAL:P3D
CALSCALE:GREGORIAN
BEGIN:VEVENT
DTSTART:20151118T160000Z
DTEND:20151118T180000Z
X-MICROSOFT-CDO-ALLDAYEVENT:FALSE
SUMMARY:Lakeland Home Care
DESCRIPTION:Lakeland Home Care will be celebrating its 30th Anniversary with an open house from 10 - 12Noon on Wed. Nov. 18. The public is invited to attend and enjoy cake and refreshments celebrating Lakeland Home Care's quality care of the Fergus Falls and surrounding area's senior citizens.
X-ALT-DESC;FMTTYPE=text/html:Lakeland Home Care will be celebrating its 30th Anniversary with an open house from 10 - 12Noon on Wed. Nov. 18. The public is invited to attend and enjoy cake and refreshments celebrating Lakeland Home Care&#39\;s quality care of the Fergus Falls and surrounding area&#39\;s senior citizens.
LOCATION:LB Homes Eisenhower Complex\, 805 East Channing Ave\, Fergus Falls
UID:e.314.26453
SEQUENCE:3
DTSTAMP:20260426T011545Z
URL:https://business.fergusfalls.com/events/details/lakeland-home-care-11-18-2015-26453
END:VEVENT

END:VCALENDAR
