BEGIN:VCALENDAR
VERSION:2.0
PRODID:-//ChamberMaster//Event Calendar 2.0//EN
METHOD:PUBLISH
X-PUBLISHED-TTL:P3D
REFRESH-INTERVAL:P3D
CALSCALE:GREGORIAN
BEGIN:VEVENT
DTSTART:20200210T220000Z
DTEND:20200211T000000Z
X-MICROSOFT-CDO-ALLDAYEVENT:FALSE
SUMMARY:Lakes Country Academy Open House
DESCRIPTION:Lakes Country Academy\, a program within the Education Services Department at Lakes Country Service Cooperative\, is excited to invite you to our brand-new site!\n			\n				4:15pm - Ribbon Cutting - Fergus Falls Area Chamber of Commerce \n			\n			School is in session and after classes let out on February 10th\, you are invited to tour the newly renovated Fergus Falls site and learn more about Lakes Country Academy and the students we serve.\n\n			\n\n			A huge thanks to the City of Fergus Falls and Port Authority as this move would not have been possible without their partnership.\n\n			\n\n			We hope to see you there!
X-ALT-DESC;FMTTYPE=text/html:<table align="left" border="0" cellpadding="0" cellspacing="0" style="width: 100%\; border-collapse: collapse\;">\n	<tbody>\n		<tr>\n			<td style="vertical-align: top\;"><span style="color: rgb(34\, 34\, 34)\;"><span style="font-family: georgia\,serif\;"><span style="font-size: 11.5pt\;">Lakes Country Academy\, a program within the Education Services Department at Lakes Country Service Cooperative\, is excited to invite you to&nbsp\;our brand-new site!</span></span></span>\n			<ul>\n				<li><span style="color: rgb(34\, 34\, 34)\;"><span style="font-family: georgia\,serif\;"><span style="font-size: 11.5pt\;">4:15pm - Ribbon Cutting - Fergus Falls Area Chamber of Commerce </span></span></span></li>\n			</ul>\n			<span style="color: rgb(34\, 34\, 34)\;"><span style="font-family: georgia\,serif\;"><span style="font-size: 11.5pt\;">School is&nbsp\;in session and after classes let out on February 10<sup>th</sup>\, you are invited to tour the newly renovated Fergus Falls site and learn more about Lakes Country Academy and the students we serve.<br />\n			<br />\n			A huge thanks to the City of Fergus Falls and Port Authority as this move would not have been possible without their partnership.<br />\n			<br />\n			We hope to see you there!</span></span></span></td>\n		</tr>\n	</tbody>\n</table>\n
LOCATION:Lakes Country Academy 1814 First Ave North Fergus Falls\, MN 56537
UID:e.314.56211
SEQUENCE:3
DTSTAMP:20260422T142801Z
URL:https://business.fergusfalls.com/events/details/lakes-country-academy-open-house-56211
END:VEVENT

END:VCALENDAR
