BEGIN:VCALENDAR
VERSION:2.0
PRODID:-//ChamberMaster//Event Calendar 2.0//EN
METHOD:PUBLISH
X-PUBLISHED-TTL:P3D
REFRESH-INTERVAL:P3D
CALSCALE:GREGORIAN
BEGIN:VEVENT
DTSTART:20170208T003000Z
DTEND:20170208T020000Z
X-MICROSOFT-CDO-ALLDAYEVENT:FALSE
SUMMARY:Lakes Country Wine Club - Pre-Valentine's Day Tasting Event
DESCRIPTION:The Lakes Country Wine Club will be holding a tasting event featuring sparkling wines (and other) for your Valentine's Day celebrations.\n\n\n\nSeats can only be purchased online. Seating is limited to 40 people. Reservations are first come\, first served. Advanced purchase only. No sales at the door.
X-ALT-DESC;FMTTYPE=text/html:<span class="_4n-j _3cht fsl">The Lakes Country Wine Club will be holding a tasting event featuring sparkling wines (and other) for your Valentine&#39\;s Day celebrations.<br />\n<br />\nSeats can only be purchased online. Seating is limited to 40 people. Reservations are first come\, first served. Advanced purchase only. No sales at the door.</span>
LOCATION:Show Map The Spot Panini & Wine 220 W Lincoln Ave\, Fergus Falls\, Minnesota
UID:e.314.38093
SEQUENCE:3
DTSTAMP:20260424T225925Z
URL:https://business.fergusfalls.com/events/details/lakes-country-wine-club-pre-valentine-s-day-tasting-event-38093
END:VEVENT

END:VCALENDAR
