BEGIN:VCALENDAR
VERSION:2.0
PRODID:-//ChamberMaster//Event Calendar 2.0//EN
METHOD:PUBLISH
X-PUBLISHED-TTL:P3D
REFRESH-INTERVAL:P3D
CALSCALE:GREGORIAN
BEGIN:VEVENT
DTSTART:20170118T003000Z
DTEND:20170118T020000Z
X-MICROSOFT-CDO-ALLDAYEVENT:FALSE
SUMMARY:Lakes country Wine Club Winter Kickoff
DESCRIPTION:The Lakes Country Wine Club kicks off the new year with a wine education and tasting event. \n\n\n\nOld World and New World Wines - Cabernet Sauvignon\, Chardonnay\, Merlot and Pinot Noir will be sampled. \n\n\n\nSeating is limited to 40. Seats must be purchased online. Advance purchase required.
X-ALT-DESC;FMTTYPE=text/html:<span style="color: rgb(75\, 79\, 86)\; font-family: &quot\;Helvetica Neue&quot\;\, Helvetica\, Arial\, sans-serif\; font-size: 14px\; background-color: rgb(255\, 255\, 255)\;">The Lakes Country Wine Club kicks off the new year with a wine education and tasting event.&nbsp\;</span><br style="color: rgb(75\, 79\, 86)\; font-family: &quot\;Helvetica Neue&quot\;\, Helvetica\, Arial\, sans-serif\; font-size: 14px\; background-color: rgb(255\, 255\, 255)\;" />\n<br style="color: rgb(75\, 79\, 86)\; font-family: &quot\;Helvetica Neue&quot\;\, Helvetica\, Arial\, sans-serif\; font-size: 14px\; background-color: rgb(255\, 255\, 255)\;" />\n<span style="color: rgb(75\, 79\, 86)\; font-family: &quot\;Helvetica Neue&quot\;\, Helvetica\, Arial\, sans-serif\; font-size: 14px\; background-color: rgb(255\, 255\, 255)\;">Old World and New World Wines - Cabernet Sauvignon\, Chardonnay\, Merlot and Pinot Noir will be sampled.&nbsp\;</span><br style="color: rgb(75\, 79\, 86)\; font-family: &quot\;Helvetica Neue&quot\;\, Helvetica\, Arial\, sans-serif\; font-size: 14px\; background-color: rgb(255\, 255\, 255)\;" />\n<br style="color: rgb(75\, 79\, 86)\; font-family: &quot\;Helvetica Neue&quot\;\, Helvetica\, Arial\, sans-serif\; font-size: 14px\; background-color: rgb(255\, 255\, 255)\;" />\n<span style="color: rgb(75\, 79\, 86)\; font-family: &quot\;Helvetica Neue&quot\;\, Helvetica\, Arial\, sans-serif\; font-size: 14px\; background-color: rgb(255\, 255\, 255)\;">Seating is limited to 40. Seats must be purchased online. Advance purchase required.</span>
LOCATION:The Spot Panini & Wine 220 W Lincoln Ave
UID:e.314.37243
SEQUENCE:3
DTSTAMP:20260425T004217Z
URL:https://business.fergusfalls.com/events/details/lakes-country-wine-club-winter-kickoff-37243
END:VEVENT

END:VCALENDAR
