BEGIN:VCALENDAR
VERSION:2.0
PRODID:-//ChamberMaster//Event Calendar 2.0//EN
METHOD:PUBLISH
X-PUBLISHED-TTL:P3D
REFRESH-INTERVAL:P3D
CALSCALE:GREGORIAN
BEGIN:VEVENT
DTSTART:20210729T130000Z
DTEND:20210730T010000Z
X-MICROSOFT-CDO-ALLDAYEVENT:FALSE
SUMMARY:Late 'til 8 - Downtown Open LATE
DESCRIPTION:Late Til 8   Shop\, Dine & Play Downtown\n\nBringing it back downtown. More than 40 downtown retailers\, restaurants and destinations will be open "Late 'til 8" on Thursday nights from Memorial Day to Labor Day. (some open until 7pm).\n\nRETAIL\n\n\n	715 Hot Heads\n	BeMobile - Verizon\n	Ben Franklin\n	Beyond the Mitered Corners \n	Biffley's\n	Boss Mom's Crafting\n	Collectors Corner\n	Cora's Closet \n	Creative Handmade Goods\n	Dandelion & Burdock\n	Family Hair Clinic\n	Fergus Falls Liquor Store\n	Fergus Falls Public Library\n	Holiday Stationstores\n	Kaddatz Galleries \n	Lincoln Ave Antiques\n	Lincoln Vapes\n	Liza Jayne's Home D cor & More\n	M&H Gas Station\n	Mauk Jewelers \n	Otter Cove Children's Museum \n	Sears \n	Service Food\n	Sugarbomb\n	Tangles to Treasures \n	The bric\n	The Creation Shop\n	The Flower Mill\n	The Market \n	Up North Tattoo\n	Uptown Barber Shop\n	Victor Lundeen Co.\n	Walgreens\n\nFOOD & BEVERAGE\n\n\n	Dining Car #423 / Steel Wheels \n	Domino's Pizza\n	Don Pablo's \n	Fergus Brewing\n	Fiesta Brava\n	Fish Factor 108\n	Outstate Brewing\n	Peney Cakes \n	Perks Coffee & Tea\n	Uncle Eddie's Ice Cream\n	Union Pizza & Brewing Co.\n\nChamber Members in Bold
X-ALT-DESC;FMTTYPE=text/html:<h1 style="margin-bottom: 0in\;"><span style="font-size:16px\;"><strong><span style="font-family:verdana\;">Late Til 8 &ndash\; Shop\, Dine &amp\; Play Downtown</span></strong></span></h1>\n\n<div style="font-size: 12px\;"><span style="font-family:verdana\;">Bringing it back downtown. More than 40 downtown retailers\, restaurants and destinations will be open &quot\;Late &#39\;til 8&quot\; on Thursday nights from Memorial Day to Labor Day. (some open until 7pm).<br />\n<u>RETAIL</u></span></div>\n\n<ol>\n	<li><span style="font-size:12px\;"><a href="http://www.fergusfalls.com/list/member/715-hot-heads-1427" target="_blank"><strong style="font-family: verdana\; font-size: 12px\;">715 Hot Heads</strong></a></span></li>\n	<li><strong><span style="font-size:12px\;"><a href="http://www.fergusfalls.com/list/member/bemobile-inc-verizon-authorized-retailer-921" target="_blank"><span style="font-family:verdana\;">BeMobile - Verizon</span></a></span></strong></li>\n	<li><span style="font-size:12px\;"><span style="font-family:verdana\;">Ben Franklin</span></span></li>\n	<li><span style="font-size:12px\;"><span style="font-family:verdana\;">Beyond the Mitered Corners</span><span style="font-family:verdana\;"> </span></span></li>\n	<li><span style="font-size:12px\;"><a href="http://www.fergusfalls.com/list/member/biffley-s-bookmark-301" target="_blank"><span style="font-family:verdana\;"><strong>Biffley&rsquo\;s</strong></span></a></span></li>\n	<li value="5"><span style="font-size:12px\;"><span style="font-family:verdana\;">Boss Mom&rsquo\;s Crafting</span></span></li>\n	<li value="6"><span style="font-size:12px\;"><span style="font-family:verdana\;">Collectors Corner</span></span></li>\n	<li><span style="font-size:12px\;"><a href="http://www.fergusfalls.com/list/member/cora-s-closet-upscale-consignment-boutique-2838" target="_blank"><span style="font-family:verdana\;"><strong>Cora&rsquo\;s Closet </strong></span></a></span></li>\n	<li><span style="font-size:12px\;"><a href="http://www.fergusfalls.com/list/member/creative-handmade-goods-2864" target="_blank"><span style="font-family:verdana\;"><strong>Creative Handmade Goods</strong></span></a></span></li>\n	<li value="9"><span style="font-size:12px\;"><span style="font-family:verdana\;">Dandelion &amp\; Burdock</span></span></li>\n	<li value="10"><span style="font-size:12px\;"><span style="font-family:verdana\;">Family Hair Clinic</span></span></li>\n	<li><span style="font-size:12px\;"><a href="https://www.ci.fergus-falls.mn.us/services/liquor-store" target="_blank"><span style="font-family:verdana\;"><strong>Fergus Falls Liquor Store</strong></span></a></span></li>\n	<li><span style="font-size:12px\;"><a href="http://www.ffpubliclibrary.org/" target="_blank"><span style="font-family:verdana\;"><strong>Fergus Falls Public Library</strong></span></a></span></li>\n	<li><a href="http://www.fergusfalls.com/list/member/holiday-stationstore-142-2839" target="_blank"><strong><span style="font-size: 12px\;"><span style="font-family: verdana\;">Holiday Stationstores</span></span></strong></a></li>\n	<li><span style="font-size:12px\;"><a href="http://www.fergusfalls.com/list/member/kaddatz-galleries-ltd-1142" target="_blank"><span style="font-family:verdana\;"><strong>Kaddatz Galleries </strong></span></a></span></li>\n	<li value="14"><span style="font-size:12px\;"><span style="font-family:verdana\;">Lincoln Ave Antiques</span></span></li>\n	<li value="15"><span style="font-size:12px\;"><span style="font-family:verdana\;">Lincoln Vapes</span></span></li>\n	<li><span style="font-size:12px\;"><a href="http://www.fergusfalls.com/list/member/liza-jaynes-home-decor-more-3136" target="_blank"><span style="font-family:verdana\;"><strong>Liza Jayne&rsquo\;s Home D&eacute\;cor &amp\; More</strong></span></a></span></li>\n	<li><span style="font-size: 12px\;"><span style="font-family: verdana\;">M&amp\;H Gas Station</span></span></li>\n	<li><span style="font-size:12px\;"><a href="http://www.fergusfalls.com/list/member/mauk-jewelers-inc-15" target="_blank"><span style="font-family:verdana\;"><strong>Mauk Jewelers </strong></span></a></span></li>\n	<li><span style="font-size:12px\;"><a href="http://www.fergusfalls.com/list/member/otter-cove-children-s-museum-3107" target="_blank"><span style="font-family:verdana\;"><strong>Otter Cove Children&rsquo\;s Museum&nbsp\;</strong></span></a></span></li>\n	<li><span style="font-size:12px\;"><a href="http://www.fergusfalls.com/list/member/sears-240" target="_blank"><span style="font-family:verdana\;"><strong>Sears </strong></span></a></span></li>\n	<li><span style="font-size:12px\;"><a href="http://www.fergusfalls.com/list/member/service-food-market-243" target="_blank"><span style="font-family:verdana\;"><strong>Service Food</strong></span></a></span></li>\n	<li value="21"><span style="font-size:12px\;"><span style="font-family:verdana\;">Sugarbomb</span></span></li>\n	<li><span style="font-size:12px\;"><a href="http://www.fergusfalls.com/list/member/tangles-to-treasures-3117" target="_blank"><span style="font-family:verdana\;"><strong>Tangles to Treasures </strong></span></a></span></li>\n	<li><span style="font-size:12px\;"><a href="http://www.fergusfalls.com/list/member/the-bric-1782" target="_blank"><span style="font-family:verdana\;"><strong>The bric</strong></span></a></span></li>\n	<li value="24"><span style="font-size:12px\;"><span style="font-family:verdana\;">The Creation Shop</span></span></li>\n	<li><span style="font-size:12px\;"><a href="http://www.fergusfalls.com/list/member/the-flower-mill-434" target="_blank"><span style="font-family:verdana\;"><strong>The Flower Mill</strong></span></a></span></li>\n	<li><span style="font-size:12px\;"><a href="http://www.fergusfalls.com/list/member/the-market-1357" target="_blank"><span style="font-family:verdana\;"><strong>The Market </strong></span></a></span></li>\n	<li value="27"><span style="font-size:12px\;"><span style="font-family:verdana\;">Up North Tattoo</span></span></li>\n	<li><span style="font-size:12px\;"><span style="font-family:verdana\;">Uptown Barber Shop</span></span></li>\n	<li><span style="font-size:12px\;"><a href="http://www.fergusfalls.com/list/member/victor-lundeen-company-69" target="_blank"><span style="font-family:verdana\;"><strong>Victor Lundeen Co.</strong></span></a></span></li>\n	<li><span style="font-size:12px\;"><a href="http://www.fergusfalls.com/list/member/walgreens-1494" target="_blank"><span style="font-family:verdana\;"><strong>Walgreens</strong></span></a></span></li>\n</ol>\n<span style="font-size:12px\;"><span style="font-family:verdana\;"><span style="font-family:verdana\;"><span style="font-family:verdana\;"><u>FOOD &amp\; BEVERAGE</u></span></span></span></span>\n\n<ol>\n	<li><span style="font-size:12px\;"><a href="http://www.fergusfalls.com/list/member/dining-car-423-steel-wheels-2987" target="_blank"><span style="font-family:verdana\;"><strong>Dining Car #423 / Steel Wheels </strong></span></a></span></li>\n	<li value="3"><span style="font-size: 12px\;"><span style="font-family: verdana\;">Domino&#39\;s Pizza</span></span></li>\n	<li><span style="font-size:12px\;"><a href="http://www.fergusfalls.com/list/member/don-pablo-s-mexican-restaurant-972" target="_blank"><span style="font-family:verdana\;"><strong>Don Pablo&rsquo\;s </strong></span></a></span></li>\n	<li value="3"><span style="font-size:12px\;"><span style="font-family:verdana\;">Fergus Brewing</span></span></li>\n	<li><span style="font-size:12px\;"><a href="http://www.fergusfalls.com/list/member/fiesta-brava-1737" target="_blank"><span style="font-family:verdana\;"><strong>Fiesta Brava</strong></span></a></span></li>\n	<li value="5"><span style="font-size:12px\;"><span style="font-family:verdana\;">Fish Factor 108</span></span></li>\n	<li value="6"><a href="http://www.fergusfalls.com/list/member/outstate-brewing-company-3096" target="_blank"><strong><span style="font-size:12px\;"><span style="font-family:verdana\;">Outstate Brewing</span></span></strong></a></li>\n	<li><span style="font-size:12px\;"><a href="http://www.fergusfalls.com/list/member/peney-cakes-3172" target="_blank"><span style="font-family:verdana\;"><strong>Peney Cakes </strong></span></a></span></li>\n	<li><span style="font-size:12px\;"><a href="http://www.fergusfalls.com/list/member/perks-coffee-tea-fir-3212" target="_blank"><span style="font-family:verdana\;"><strong>Perks Coffee &amp\; Tea</strong></span></a></span></li>\n	<li value="9"><strong><a href="http://www.fergusfalls.com/list/member/uncle-eddies-llc-3236" target="_blank"><span style="font-size:12px\;"><span style="font-family:verdana\;">Uncle Eddie&rsquo\;s Ice Cream</span></span></a></strong></li>\n	<li><span style="font-size:12px\;"><a href="http://www.fergusfalls.com/list/member/union-pizza-brewing-company-1789" target="_blank"><span style="font-family:verdana\;"><strong>Union Pizza &amp\; Brewing Co.</strong></span></a></span></li>\n</ol>\n<span style="color:#0000FF\;"><span style="font-size:12px\;"><span style="font-family:verdana\;"><strong>Chamber Members in Bold</strong></span></span></span>
LOCATION:Downtown Fergus Falls
UID:e.314.62118
SEQUENCE:3
DTSTAMP:20260421T110812Z
URL:https://business.fergusfalls.com/events/details/late-til-8-downtown-open-late-07-29-2021-62118
END:VEVENT

END:VCALENDAR
