BEGIN:VCALENDAR
VERSION:2.0
PRODID:-//ChamberMaster//Event Calendar 2.0//EN
METHOD:PUBLISH
X-PUBLISHED-TTL:P3D
REFRESH-INTERVAL:P3D
CALSCALE:GREGORIAN
BEGIN:VEVENT
DTSTART:20221002T233000Z
DTEND:20221003T013000Z
X-MICROSOFT-CDO-ALLDAYEVENT:FALSE
SUMMARY:Laughs for Life! Health Resources Center's Annual Fundraising Event
DESCRIPTION:6:30 pm Doors Open/Appetizers\n\n7:00 pm Guest Speaker\n\n8:15 pm Dessert\n\nAn opportunity to make a financial gift will be extended. Apps & dessert are complimentary.\n\nGUEST SPEAKER: Gordon Douglas\n\nGordon is someone who lives and loves to laugh!  His comedy skills took him from the nightclubs in Philadelphia to Hollywood - and then ended up in ministry! Learning from his comedy hero Red Skelton\, Gordon's comedy mixes real life stories with "off the wall" physical comedy and his own hilarious view of life. He helps us see the funny things all around us and find joy no matter what we are going through. Besides his vast comedy background\, Gordon was named Who's Who in America's Universities when he graduated from Philadelphia Biblical University in 1995. For the last 20 years\, Gordon has served as the head of the pastoral board of the Delaware County Pregnancy Center and regional coordinator of the National Day of Prayer. In his spare time\, he is still the President of Therapeutic Construction and Design\, making custom equipment for folks with disabilities. In honor of his hero Bob Hope\, Gordon started Operation Belly Laughs\, sending comedy DVDs to the troops. He has been on the board of his local pregnancy center for over 25 years. The story of his miraculous home will stir the hearts of any listener\, stressing how each and every life is precious\, and how every life is worth fighting for. Gordon has been married to his wife\, Dawn\, for over 35 years. They have five natural children and have opened their hearts and home to a whole lot more. His comedy program has been featured on HUCKABEE\, and DRYBAR comedy.
X-ALT-DESC;FMTTYPE=text/html:<p helvetica="" letter-spacing:="" neue="" style="margin: 0px\; padding: 0px\; color: rgb(111\, 114\, 135)\; font-size: 16px\; line-height: 1.5rem\; font-family: "><span style="color:#000000\;"><span style="font-size:12px\;"><span style="font-family:verdana\;"><span style="font-weight: 700\; padding-top: 0px\;">6:30 pm</span>&nbsp\;Doors Open/Appetizers</span></span></span></p>\n\n<p helvetica="" letter-spacing:="" neue="" style="margin: 0px\; padding: 10px 0px 0px\; color: rgb(111\, 114\, 135)\; font-size: 16px\; line-height: 1.5rem\; font-family: "><span style="color:#000000\;"><span style="font-size:12px\;"><span style="font-family:verdana\;"><span style="font-weight: 700\; padding-top: 0px\;">7:00 pm</span>&nbsp\;Guest Speaker</span></span></span></p>\n\n<p helvetica="" letter-spacing:="" neue="" style="margin: 0px\; padding: 10px 0px 0px\; color: rgb(111\, 114\, 135)\; font-size: 16px\; line-height: 1.5rem\; font-family: "><span style="color:#000000\;"><span style="font-size:12px\;"><span style="font-family:verdana\;"><span style="font-weight: 700\; padding-top: 0px\;">8:15 pm&nbsp\;</span>Dessert</span></span></span></p>\n\n<p helvetica="" letter-spacing:="" neue="" style="margin: 0px\; padding: 10px 0px 0px\; color: rgb(111\, 114\, 135)\; font-size: 16px\; line-height: 1.5rem\; font-family: "><span style="color:#000000\;"><span style="font-size:12px\;"><span style="font-family:verdana\;">An opportunity to make a financial gift will be extended. Apps &amp\; dessert are complimentary.</span></span></span></p>\n\n<p helvetica="" letter-spacing:="" neue="" style="margin: 0px\; padding: 10px 0px 0px\; color: rgb(111\, 114\, 135)\; font-size: 16px\; line-height: 1.5rem\; font-family: "><span style="color:#000000\;"><span style="font-size:12px\;"><span style="font-family:verdana\;"><span style="font-weight: 700\; padding-top: 0px\;">GUEST SPEAKER:</span>&nbsp\;Gordon Douglas</span></span></span></p>\n\n<p helvetica="" letter-spacing:="" neue="" style="margin: 0px\; padding: 10px 0px 0px\; color: rgb(111\, 114\, 135)\; font-size: 16px\; line-height: 1.5rem\; font-family: "><span style="color:#000000\;"><span style="font-size:12px\;"><span style="font-family:verdana\;">Gordon is someone who lives and loves to laugh! &nbsp\;His comedy skills took him from the nightclubs in Philadelphia to Hollywood - and then ended up in ministry! Learning from his comedy hero Red Skelton\, Gordon&rsquo\;s comedy mixes real life stories with &ldquo\;off the wall&rdquo\; physical comedy and his own hilarious view of life. He helps us see the funny things all around us and find joy no matter what we are going through. Besides his vast comedy background\, Gordon was named Who&rsquo\;s Who in America&rsquo\;s Universities when he graduated from Philadelphia Biblical University in 1995. For the last 20 years\, Gordon has served as the head of the pastoral board of the Delaware County Pregnancy Center and regional coordinator of the National Day of Prayer. In his spare time\, he is still the President of Therapeutic Construction and Design\, making custom equipment for folks with disabilities. In honor of his hero Bob Hope\, Gordon started Operation Belly Laughs\, sending comedy DVDs to the troops. He has been on the board of his local pregnancy center for over 25 years. The story of his miraculous home will stir the hearts of any listener\, stressing how each and every life is precious\,&nbsp\;and how every life is worth fighting for.&nbsp\;Gordon has been married to his wife\, Dawn\, for over 35 years. They have five natural children and have opened their hearts and home to a whole lot more. His comedy program has been featured on HUCKABEE\, and DRYBAR comedy.</span></span></span></p>\n
LOCATION:LIFE CHURCH 901 County Highway 116 Fergus Falls\, MN 56537
UID:e.314.67291
SEQUENCE:3
DTSTAMP:20260421T101540Z
URL:https://business.fergusfalls.com/events/details/laughs-for-life-health-resources-center-s-annual-fundraising-event-67291
END:VEVENT

END:VCALENDAR
