BEGIN:VCALENDAR
VERSION:2.0
PRODID:-//ChamberMaster//Event Calendar 2.0//EN
METHOD:PUBLISH
X-PUBLISHED-TTL:P3D
REFRESH-INTERVAL:P3D
CALSCALE:GREGORIAN
BEGIN:VEVENT
DTSTART:20151120T170000Z
DTEND:20151120T193000Z
X-MICROSOFT-CDO-ALLDAYEVENT:FALSE
SUMMARY:Law Enforcement & 1st Responder Appreciation Day - Nelson Auto Center
DESCRIPTION:You are invited to Join Us at Nelson Auto Center on Friday November 20th for Law Enforcement and 1st Responder Appreciation Day!   \n\n\n\nLunch served from  11:00-1:30\n\nPresentation at 11:30 \n\n\n\nAll First Responders attending will receive a $250 Coupon to put towards their next vehicle.
X-ALT-DESC;FMTTYPE=text/html:<span style="font-size: 18px\;"><strong>You are invited to Join Us at Nelson Auto Center on Friday November 20th for Law Enforcement and 1st Responder Appreciation Day!&nbsp\;&nbsp\; </strong></span><br />\n<br />\n<span style="color: rgb(255\, 0\, 0)\;"><strong>Lunch served from&nbsp\; 11:00-1:30<br />\nPresentation at 11:30 </strong></span><br />\n<br />\n<em><strong>All First Responders attending</strong></em> will receive a <em><strong>$250 Coupon</strong></em> to put towards their next vehicle.
LOCATION:Nelson Auto Center 2228 College Way Fergus Falls
UID:e.314.25976
SEQUENCE:3
DTSTAMP:20260426T011720Z
URL:https://business.fergusfalls.com/events/details/law-enforcement-1st-responder-appreciation-day-nelson-auto-center-11-20-2015-25976
END:VEVENT

END:VCALENDAR
