BEGIN:VCALENDAR
VERSION:2.0
PRODID:-//ChamberMaster//Event Calendar 2.0//EN
METHOD:PUBLISH
X-PUBLISHED-TTL:P3D
REFRESH-INTERVAL:P3D
CALSCALE:GREGORIAN
BEGIN:VEVENT
DTSTART:20160128T143000Z
DTEND:20160128T173000Z
X-MICROSOFT-CDO-ALLDAYEVENT:FALSE
SUMMARY:LCHRA Workers' Compensation Employer Training
DESCRIPTION:Lakes Country Human Resources Association is extending an invite to the Fergus Falls Chamber members to a special programming event. This is a 3 hour Employer Training on Workers' Compensation presented by the MN Department of Labor and Industry. The training will provide: -Workers' Compensation basics -What to do if an injury occurs -What to do if an injury is reported -Benefits provided -What is/is not covered by Workers' Compensation -Employer do's and don'ts
X-ALT-DESC;FMTTYPE=text/html:Lakes Country Human Resources Association is extending an invite to the Fergus Falls Chamber members to a special programming event. This is a 3 hour Employer Training on Workers&#39\; Compensation presented by the MN Department of Labor and Industry. The training will provide: -Workers&#39\; Compensation basics -What to do if an injury occurs -What to do if an injury is reported -Benefits provided -What is/is not covered by Workers&#39\; Compensation -Employer do&#39\;s and don&#39\;ts
LOCATION:Arvig Building 150 2nd St SW Perham\, MN
UID:e.314.27960
SEQUENCE:3
DTSTAMP:20260425T232521Z
URL:https://business.fergusfalls.com/events/details/lchra-workers-compensation-employer-training-01-28-2016-27960
END:VEVENT

END:VCALENDAR
