BEGIN:VCALENDAR
VERSION:2.0
PRODID:-//ChamberMaster//Event Calendar 2.0//EN
METHOD:PUBLISH
X-PUBLISHED-TTL:P3D
REFRESH-INTERVAL:P3D
CALSCALE:GREGORIAN
BEGIN:VEVENT
DTSTART:20161102T180000Z
DTEND:20161102T200000Z
X-MICROSOFT-CDO-ALLDAYEVENT:FALSE
SUMMARY:LCSC Human Resources Networking Group - Pemberton Law
DESCRIPTION:Lakes Country Service Cooperative\n\nHR Networking - Stretching the Hiring Limits\n\n11/2/2016 1:00 PM\n\n\n\n\n\nDescription\n\n\n\n\n\n\nWhen your organization has an open position\, you want to ensure that you are hiring the right candidate for the job. Learn about best hiring practices\, the applicant screening process\, interviewing and hiring. Presented by Pemberton Law. A light snack will be provided.  To register\, click here.
X-ALT-DESC;FMTTYPE=text/html:<strong>Lakes Country Service Cooperative<br />\nHR Networking - Stretching the Hiring Limits<br />\n<span id="eventdetail-date">11/2/2016 1:00 PM</span></strong>\n\n<div id="cal-event-detail-button-container">\n<div class="ui-widget-toolbar-top-right">\n<div class="ui-btn-toolbar-icon month"><br />\n<strong>Description</strong></div>\n</div>\n</div>\n\n<div id="cal-event-detail-col1">\n<div class="cal-ed-container" id="cal-ed-description-container">\n<div class="cal-ed-body" id="cal-ed-description-body">\n<p>When your organization has an open position\, you want to ensure that you are hiring the right candidate for the job. Learn about best hiring practices\, the applicant screening process\, interviewing and hiring. Presented by Pemberton Law. A light snack will be provided. &nbsp\;To register\, <a href="http://www.lcsc.org/Page/426" target="_blank"><font color="#0066cc">click here</font></a>.</p>\n</div>\n</div>\n</div>\n
LOCATION:1001 E. Mt. Faith Fergus Falls\, MN 56537 p: 218-739-3273 f: 218-739-2459
UID:e.314.36250
SEQUENCE:3
DTSTAMP:20260425T035741Z
URL:https://business.fergusfalls.com/events/details/lcsc-human-resources-networking-group-pemberton-law-36250
END:VEVENT

END:VCALENDAR
