BEGIN:VCALENDAR
VERSION:2.0
PRODID:-//ChamberMaster//Event Calendar 2.0//EN
METHOD:PUBLISH
X-PUBLISHED-TTL:P3D
REFRESH-INTERVAL:P3D
CALSCALE:GREGORIAN
BEGIN:VEVENT
DTSTART;VALUE=DATE:20170227
DTEND;VALUE=DATE:20170304
TRANSP:TRANSPARENT
X-MICROSOFT-CDO-ALLDAYEVENT:TRUE
SUMMARY:Lead Fergus Falls- 2017 Bladin Commuity Leadership Program
DESCRIPTION:Lead Fergus Falls\n\n2017 Blandin Community Leadership Program\n\nBCLP will select 12 Men & 12 Women (plus alternates)\n\nApplications are online and due by January 9\, 2017\n\nApply online: http://blandinfoundation.tfaforms.net/4
X-ALT-DESC;FMTTYPE=text/html:Lead Fergus Falls<br />\n2017 Blandin Community Leadership Program<br />\nBCLP will select 12 Men &amp\; 12 Women (plus alternates)<br />\nApplications are online and due by January 9\, 2017<br />\nApply online: <u>http://blandinfoundation.tfaforms.net/4</u><br />\n<br />\n&nbsp\;
LOCATION:
UID:e.314.36986
SEQUENCE:3
DTSTAMP:20260424T205737Z
URL:https://business.fergusfalls.com/events/details/lead-fergus-falls-2017-bladin-commuity-leadership-program-36986
END:VEVENT

END:VCALENDAR
