BEGIN:VCALENDAR
VERSION:2.0
PRODID:-//ChamberMaster//Event Calendar 2.0//EN
METHOD:PUBLISH
X-PUBLISHED-TTL:P3D
REFRESH-INTERVAL:P3D
CALSCALE:GREGORIAN
BEGIN:VEVENT
DTSTART:20161213T173000Z
DTEND:20161213T193000Z
X-MICROSOFT-CDO-ALLDAYEVENT:FALSE
SUMMARY:Leadership over Lunch
DESCRIPTION:Leadership Over Lunch\n\nBoost Your Technology Security Knowledge\n\nDecember 13\, 2016\n\n11:30am-1:30pm\n\nTo register\, visit: www.lcsc.org/workshops\n\nAll sessions are held at LCSC and are open to nonprofits\,cities\, counties\, other governmental agencies and schools.
X-ALT-DESC;FMTTYPE=text/html:Leadership Over Lunch<br />\nBoost Your Technology Security Knowledge<br />\nDecember 13\, 2016<br />\n11:30am-1:30pm<br />\nTo register\, visit: <a href="http://www.lcsc.org/workshops">www.lcsc.org/workshops</a><br />\nAll sessions are held at LCSC and are open to nonprofits\,cities\, counties\, other governmental agencies and schools.
LOCATION:Lakes Country Service Cooperative 1001 E. Mount Faith Ave. Fergus Falls MN 56537
UID:e.314.36985
SEQUENCE:3
DTSTAMP:20260425T034613Z
URL:https://business.fergusfalls.com/events/details/leadership-over-lunch-36985
END:VEVENT

END:VCALENDAR
