BEGIN:VCALENDAR
VERSION:2.0
PRODID:-//ChamberMaster//Event Calendar 2.0//EN
METHOD:PUBLISH
X-PUBLISHED-TTL:P3D
REFRESH-INTERVAL:P3D
CALSCALE:GREGORIAN
BEGIN:VEVENT
DTSTART:20160229T200000Z
DTEND:20160229T204500Z
X-MICROSOFT-CDO-ALLDAYEVENT:FALSE
SUMMARY:Leap Day Dance Party at The Public Library!
DESCRIPTION:Leap Day Dance Party!\n\nMonday Feb 29\n\n2:00-2:45pm\n\nAges 0-5
X-ALT-DESC;FMTTYPE=text/html:<strong>Leap Day Dance Party!</strong><br />\nMonday Feb 29<br />\n2:00-2:45pm<br />\nAges 0-5
LOCATION:Fergus Falls Public Library
UID:e.314.31070
SEQUENCE:3
DTSTAMP:20260425T201127Z
URL:https://business.fergusfalls.com/events/details/leap-day-dance-party-at-the-public-library-02-29-2016-31070
END:VEVENT

END:VCALENDAR
