BEGIN:VCALENDAR
VERSION:2.0
PRODID:-//ChamberMaster//Event Calendar 2.0//EN
METHOD:PUBLISH
X-PUBLISHED-TTL:P3D
REFRESH-INTERVAL:P3D
CALSCALE:GREGORIAN
BEGIN:VEVENT
DTSTART;VALUE=DATE:20160229
DTEND;VALUE=DATE:20160301
TRANSP:TRANSPARENT
X-MICROSOFT-CDO-ALLDAYEVENT:TRUE
SUMMARY:Leap Year Subscription Special -- One Day SALE
DESCRIPTION:Leap Year Special -- Call or stop in on Monday\, February 29.\n\nGet $29.00 OFF our regular annual subscription rate.\n\nNew Subscribers -- Returning Subscribers -- Everyone Welcome!\n\n$102.40 in town carrier delivery\n\n$139 mail or motor delivery\n\nCALL LORI: 218-739-7015\n\n\n\nPayment must accompany order. Credit card & bank drafts accepted over the phone.
X-ALT-DESC;FMTTYPE=text/html:<span style="line-height: 20.8px\;">Leap Year Special -- Call or stop in on Monday\, February 29.</span><br style="line-height: 20.8px\;" />\n<span style="line-height: 20.8px\;">Get $29.00 OFF our regular annual subscription rate.</span><br style="line-height: 20.8px\;" />\n<span style="line-height: 20.8px\;">New Subscribers -- Returning Subscribers -- Everyone Welcome!</span><br style="line-height: 20.8px\;" />\n<span style="line-height: 20.8px\;">$102.40 in town carrier delivery</span><br style="line-height: 20.8px\;" />\n<span style="line-height: 20.8px\;">$139 mail or motor delivery</span><br style="line-height: 20.8px\;" />\n<span style="line-height: 20.8px\;">CALL LORI: 218-739-7015</span><br style="line-height: 20.8px\;" />\n<br style="line-height: 20.8px\;" />\n<span style="line-height: 20.8px\;">Payment must accompany order. Credit card &amp\; bank drafts accepted over the phone.</span>
LOCATION:The Daily Journal 914 E. Channing Fergus Falls\, MN
UID:e.314.31316
SEQUENCE:3
DTSTAMP:20260425T215440Z
URL:https://business.fergusfalls.com/events/details/leap-year-subscription-special-one-day-sale-02-29-2016-31316
END:VEVENT

END:VCALENDAR
