BEGIN:VCALENDAR
VERSION:2.0
PRODID:-//ChamberMaster//Event Calendar 2.0//EN
METHOD:PUBLISH
X-PUBLISHED-TTL:P3D
REFRESH-INTERVAL:P3D
CALSCALE:GREGORIAN
BEGIN:VEVENT
DTSTART:20161112T160000Z
DTEND:20161112T220000Z
X-MICROSOFT-CDO-ALLDAYEVENT:FALSE
SUMMARY:Leg Pain Screening
DESCRIPTION:Come join the University of Minnesota School of Nursing at the WestRidge Mall during the holiday craft fair for a leg pain screening for peripheral artery disease. Who should come: individuals who experience leg pain\, have a history of smoking or are a current smoker\, have diabetes\, high blood pressure\, or high cholesterol\, and are 50 years of age or older.
X-ALT-DESC;FMTTYPE=text/html:Come join the University of Minnesota School of Nursing at the WestRidge Mall during the holiday craft fair for a leg pain screening for peripheral artery disease. Who should come: individuals who experience leg pain\, have a history of smoking or are a current smoker\, have diabetes\, high blood pressure\, or high cholesterol\, and are 50 years of age or older.
LOCATION:WestRidge Mall
UID:e.314.36608
SEQUENCE:3
DTSTAMP:20260425T035607Z
URL:https://business.fergusfalls.com/events/details/leg-pain-screening-36608
END:VEVENT

END:VCALENDAR
