BEGIN:VCALENDAR
VERSION:2.0
PRODID:-//ChamberMaster//Event Calendar 2.0//EN
METHOD:PUBLISH
X-PUBLISHED-TTL:P3D
REFRESH-INTERVAL:P3D
CALSCALE:GREGORIAN
BEGIN:VEVENT
DTSTART:20180526T190000Z
DTEND:20180526T213000Z
X-MICROSOFT-CDO-ALLDAYEVENT:FALSE
SUMMARY:Legal Consideration - Business Skills for Artists
DESCRIPTION:Legal Considerations\n\nSaturday\, May 26\, 2   4:30pm\n\nObtain general information about your intellectual property\, contract basics and structuring your artistic business.\n\n\n\nThis is a FREE workshop that is offered to all artists and is part of the Work of Art Series at Springboard for the Arts.\n\n\n\nLocation: The Spot Panini & Wine\, 220 West Lincoln Ave.\, Fergus Falls\, MN 56537.\n\n\n\nPlease register at the following link:\n\nhttps://springboardforthearts.org/winter-spring-workshops-in-fergus-falls-registration-form/\n\n\n\nAny questions please contact Dominic at 218-998-4037 or email dominic@springboardforthearts.org
X-ALT-DESC;FMTTYPE=text/html:<span class="_4n-j _3cht fsl" data-testid="event-permalink-details">Legal Considerations<br />\nSaturday\, May 26\, 2 &ndash\; 4:30pm<br />\nObtain general information about your intellectual property\, contract basics and structuring your artistic business.<br />\n<br />\nThis is a FREE workshop that is offered to all artists and is part of the Work of Art Series at Springboard for the Arts.<br />\n<br />\nLocation: The Spot Panini &amp\; Wine\, 220 West Lincoln Ave.\, Fergus Falls\, MN 56537.<br />\n<br />\nPlease register at the following link:<br />\n<a data-lynx-mode="hover" data-lynx-uri="https://l.facebook.com/l.php?u=https%3A%2F%2Fspringboardforthearts.org%2Fwinter-spring-workshops-in-fergus-falls-registration-form%2F&amp\;h=ATOWQdyGCFxUoH9V6bGmZsggl01gMAdnwqQ_VAzsCbWoOND6weZfMakDhzZRBC81FoR-1toUPcEgq6xN_gbTQmfTsKMANAi-t1_icADrtZaif7M-0w" href="https://springboardforthearts.org/winter-spring-workshops-in-fergus-falls-registration-form/" rel="nofollow" target="_blank"><font color="#0066cc"><span>https://</span><wbr /><span>springboardforthearts.org/</span><wbr /></font><font color="#0066cc"><span>winter-spring-workshops-in-</span><wbr /><span>fergus-falls-registration-</span><wbr /></font><font color="#0066cc">form</font><font color="#0066cc">/</font></a><br />\n<br />\n<span>Any questions please contact Dominic at 218-998-4037 or email dominic@springboardforthea</span><wbr />rts.org</span>
LOCATION:The Spot Panini & Wine 220 W Lincoln Ave Fergus Falls
UID:e.314.44973
SEQUENCE:3
DTSTAMP:20260423T230149Z
URL:https://business.fergusfalls.com/events/details/legal-consideration-business-skills-for-artists-44973
END:VEVENT

END:VCALENDAR
