BEGIN:VCALENDAR
VERSION:2.0
PRODID:-//ChamberMaster//Event Calendar 2.0//EN
METHOD:PUBLISH
X-PUBLISHED-TTL:P3D
REFRESH-INTERVAL:P3D
CALSCALE:GREGORIAN
BEGIN:VEVENT
DTSTART:20160718T190000Z
DTEND:20160718T203000Z
X-MICROSOFT-CDO-ALLDAYEVENT:FALSE
SUMMARY:LEGO Pentathlon: 4th-8th Grade - FFPL
DESCRIPTION:LEGO Pentathlon \n\nMonday\, July 18\; 2:00 - 3:30pm\n\nGrades 4th - 8th\n\nRegistration is required.\n\nCall the library to sign-up: (218)739-9387\n\n\n\nDo you have what it takes to complete all 5 LEGO challenges in the allotted time?
X-ALT-DESC;FMTTYPE=text/html:<span style="color: rgb(75\, 79\, 86)\; font-family: helvetica\, arial\, sans-serif\; font-size: 14px\; line-height: 18.76px\;">LEGO Pentathlon&nbsp\;</span><br style="color: rgb(75\, 79\, 86)\; font-family: helvetica\, arial\, sans-serif\; font-size: 14px\; line-height: 18.76px\;" />\n<span style="color: rgb(75\, 79\, 86)\; font-family: helvetica\, arial\, sans-serif\; font-size: 14px\; line-height: 18.76px\;">Monday\, July 18\; 2:00 - 3:30pm</span><br style="color: rgb(75\, 79\, 86)\; font-family: helvetica\, arial\, sans-serif\; font-size: 14px\; line-height: 18.76px\;" />\n<span style="color: rgb(75\, 79\, 86)\; font-family: helvetica\, arial\, sans-serif\; font-size: 14px\; line-height: 18.76px\;">Grades 4th - 8th</span><br style="color: rgb(75\, 79\, 86)\; font-family: helvetica\, arial\, sans-serif\; font-size: 14px\; line-height: 18.76px\;" />\n<span style="color: rgb(75\, 79\, 86)\; font-family: helvetica\, arial\, sans-serif\; font-size: 14px\; line-height: 18.76px\;">Registration is required.</span><br style="color: rgb(75\, 79\, 86)\; font-family: helvetica\, arial\, sans-serif\; font-size: 14px\; line-height: 18.76px\;" />\n<span style="color: rgb(75\, 79\, 86)\; font-family: helvetica\, arial\, sans-serif\; font-size: 14px\; line-height: 18.76px\;">Call the library to sign-up: (218)739-9387</span><br style="color: rgb(75\, 79\, 86)\; font-family: helvetica\, arial\, sans-serif\; font-size: 14px\; line-height: 18.76px\;" />\n<br style="color: rgb(75\, 79\, 86)\; font-family: helvetica\, arial\, sans-serif\; font-size: 14px\; line-height: 18.76px\;" />\n<span style="color: rgb(75\, 79\, 86)\; font-family: helvetica\, arial\, sans-serif\; font-size: 14px\; line-height: 18.76px\;">Do you have what it takes to complete all 5 LEGO challenges in the allotted time?</span>
LOCATION:Fergus Falls Public Library\, 205 Hampden avenue\, Fergus Falls\, MN 56537
UID:e.314.32910
SEQUENCE:3
DTSTAMP:20260425T111331Z
URL:https://business.fergusfalls.com/events/details/lego-pentathlon-4th-8th-grade-ffpl-07-18-2016-32910
END:VEVENT

END:VCALENDAR
