BEGIN:VCALENDAR
VERSION:2.0
PRODID:-//ChamberMaster//Event Calendar 2.0//EN
METHOD:PUBLISH
X-PUBLISHED-TTL:P3D
REFRESH-INTERVAL:P3D
CALSCALE:GREGORIAN
BEGIN:VEVENT
DTSTART:20170315T170000Z
DTEND:20170315T170000Z
X-MICROSOFT-CDO-ALLDAYEVENT:FALSE
SUMMARY:Lenten Speaker Series
DESCRIPTION:Join us at Federated Church during Lent. Every Wednesday night someone shares their faith story at 5:30. It's a short service followed by supper at 6 p.m. All are welcome. March 8 - Stephanie Hoff March 15 - Tessa Vogel March 22 - Abby MacFarlane and Paige Westra March 29 - Stacia Harrington Sytsma April 5 - Pam Phillips
X-ALT-DESC;FMTTYPE=text/html:Join us at Federated Church during Lent. Every Wednesday night someone shares their faith story at 5:30. It&#39\;s a short service followed by supper at 6 p.m. All are welcome. March 8 - Stephanie Hoff March 15 - Tessa Vogel March 22 - Abby MacFarlane and Paige Westra March 29 - Stacia Harrington Sytsma April 5 - Pam Phillips
LOCATION:Federated Church 224 N. Union Ave. Fergus Falls\, MN 56537
UID:e.314.38742
SEQUENCE:3
DTSTAMP:20260424T210311Z
URL:https://business.fergusfalls.com/events/details/lenten-speaker-series-03-15-2017-38742
END:VEVENT

END:VCALENDAR
