BEGIN:VCALENDAR
VERSION:2.0
PRODID:-//ChamberMaster//Event Calendar 2.0//EN
METHOD:PUBLISH
X-PUBLISHED-TTL:P3D
REFRESH-INTERVAL:P3D
CALSCALE:GREGORIAN
BEGIN:VEVENT
DTSTART:20160829T230000Z
DTEND:20160830T000000Z
X-MICROSOFT-CDO-ALLDAYEVENT:FALSE
SUMMARY:Library Expansion & Remodel Public Meeting
DESCRIPTION:A public informational meeting on the proposed library expansion and remodel project. Information on the proposed design\, project costs\, sales tax referendum and project fundraising will be shared. The presentation will include a tour of the current facility. Information about the proposed project can also be found on the library website at ffpubliclibrary.org/Renewal_Project.
X-ALT-DESC;FMTTYPE=text/html:<span class="_4n-j fsl">A public informational meeting on the proposed library expansion and remodel project. Information on the proposed design\, project costs\, sales tax referendum and project fundraising will be shared. The presentation will include a tour of the current facility. Information about the proposed project can also be found on the library website at <a href="http://ffpubliclibrary.org/Renewal_Project" rel="nofollow nofollow" target="_blank"><font color="#0066cc"><span>ffpubliclibrary.org/</span><wbr /></font><font color="#0066cc">Renewal_Project</font></a>.</span>
LOCATION:Fergus Falls Public Library 205 Hampden Ave\, Fergus Falls\, Minnesota 56537
UID:e.314.33097
SEQUENCE:3
DTSTAMP:20260425T110716Z
URL:https://business.fergusfalls.com/events/details/library-expansion-remodel-public-meeting-08-29-2016-33097
END:VEVENT

END:VCALENDAR
